Workbook
Name Alloc_Weighting: #REF!
Name AllocatorList: #REF!
Name Allocators: #REF!
Name AllocFactor_Input: #REF!
Name AllocFactor_Input_CustClass: #REF!
Name AllocFactor_Input_FactorName: #REF!
Name AllocFactor_Input_TotalFac: #REF!
Name AllocFactor_Summary: #REF!
Name AllocFactor_Summary_CustClass: #REF!
Name AllocFactor_Summary_Desc: #REF!
Name AvgMillRate: #REF!
Name Billing_Unit_Alloc: #REF!
Name ClassAlloc_CustClass: #REF!
Name ClassAlloc_Opex: #REF!
Name ClassAlloc_Opex_Desc: #REF!
Name ClassAlloc_RateBase: #REF!
Name ClassAlloc_RateBase_Desc: #REF!
Name ClassAlloc_Rev: #REF!
Name ClassAlloc_Rev_Desc: #REF!
Name Company: #REF!
Name Desc_Opex: #REF!
Name Desc_RateBase: #REF!
Name Desc_Revenue: #REF!
Name Docket: #REF!
Name EnergyRounding: #REF!
Name FC_Alloc: #REF!
Name FC_Export: #REF!
Name FC_Export_col: #REF!
Name FC_Factor_Amts: #REF!
Name FC_Factor_Name: #REF!
Name FC_Rate_Schedule: #REF!
Name FC_Table_Desc: #REF!
Name FC_Weightings: #REF!
Name Func_Alloc: #REF!
Name HeadingTitle1: #REF!
Name HeadingTitle2: #REF!
Name JSS_import_desc: #REF!
Name JSS_import_total: #REF!
Name JSS_Line_Alloc: #REF!
Name JSS_row: #REF!
Name NetGrossFactor: #REF!
Name OpEx_RowNum: #REF!
Name OtherRev_RowNum: #REF!
Name OtherRounding: #REF!
Name RateBase_RowNum: #REF!
Name RequiredROR: #REF!
Name ResultsSummary: #REF!
Name ResultsSummary_CustClass: #REF!
Name ResultsSummary_Desc: #REF!
Name Rounding: #REF!
Name State: #REF!
Name Summary_AccumDefIT: #REF!
Name Summary_AcqAdj: #REF!
Name Summary_AmortExp: #REF!
Name Summary_AmortReserve: #REF!
Name Summary_CustAddvConst: #REF!
Name Summary_CWIP: #REF!
Name Summary_DefITC: #REF!
Name Summary_DefPrgrms: #REF!
Name Summary_DepExp: #REF!

Sheet I01+I06
C3: Idaho Power Company
C4: State of Idaho
C5: Calculation of Proposed Rates
C6: Filed May 30, 2025
C7: IPC-E-25-16
C9: Residential Service
C10: Schedule 1 and Schedule 6
C12: Column | D12: (A) | E12: (B) | F12: (C) | G12: (D) | H12: (E) | I12: (F)
E14: Test Year | F14: Current | G14: Test Year | H14: Proposed | I14: Proposed
C15: Line | E15: Billing | F15: Base | G15: Base | H15: Effective | I15: Effective
C16: No. | D16: Description | E16: Units | F16: Rate | G16: Revenue | H16: Rate | I16: Revenue
C17: -1 | D17: Service Charge | E17: =+SUM('I01'!E17,'I06'!E17) -> 6449658.4 | F17: 15 | G17: =+F17*$E17 -> 96744876 | H17: =+SUM(ROUNDDOWN(O29-F17,-1)/$O$30,F17) -> 25 | I17: =+H17*$E17 -> 161241460 | L17: =+_xlfn.CONCAT(C9,", ",C10) -> Residential Service, Schedule 1 and Schedule 6
C18: =+C17-1 -> -2 | D18: Minimum Charge | E18: =+SUM('I01'!E18,'I06'!E18) -> 54847.667 | F18: 3 | G18: =+F18*$E18 -> 164543 | H18: =F18 -> 3 | I18: =+H18*$E18 -> 164543 | L18: In Adjusted Base Revenue | O18: =+I31 -> 8.1102438e+08
C19: =+C18-1 -> -3 | D19: Summer Energy (Jun-Sep) | L19: Target Adjusted Base Revenue | O19: =G31*(1+O23) -> 8.1102442e+08
C20: =+C19-1 -> -4 | D20: First 800 kWh | E20: =+SUM('I01'!E20,'I06'!E20) -> 1.2647847e+09 | F20: 0.101779 | G20: =+F20*$E20 -> 1.2872853e+08 | H20: 0.125685 | I20: =+H20*$E20 -> 1.5896447e+08 | L20: D | O20: =+O18-O19 -> -34.534539
C21: =+C20-1 -> -5 | D21: 801-2,000 kWh | E21: =+SUM('I01'!E21,'I06'!E21) -> 5.4322245e+08 | F21: 0.12238 | G21: =+F21*$E21 -> 66479563 | H21: 0.13792 | I21: =+H21*$E21 -> 74921240
C22: =+C21-1 -> -6 | D22: All Additional kWh | E22: =+SUM('I01'!E22,'I06'!E22) -> 95968279 | F22: 0.145385 | G22: =+F22*$E22 -> 13952348 | H22: 0.15158 | I22: =+H22*$E22 -> 14546872 | L22: Adjusted Base Revenue Change | O22: =+O18/$G$31-1 -> 0.1701903
C23: =+C22-1 -> -7 | D23: Subtotal - Summer Energy | E23: =+SUM(E20:E22) -> 1.9039755e+09 | F23: =+G23/$E23 -> 0.10985459 | G23: =+SUM(G20:G22) -> 2.0916044e+08 | H23: =(O19-I17-I18)/(SUM(E20:E22)+(SUM(E25:E27))/O26) -> 0.13048143 | I23: =+SUM(I20:I22) -> 2.4843258e+08 | L23: Target Adjusted Base Revenue | O23: 0.17019035
C24: =+C23-1 -> -8 | D24: Non-Summer Energy (Oct-May) | L24: Season Cost Ratio (Unit Cost Sheet) | O24: 1.3903844
C25: =+C24-1 -> -9 | D25: First 800 kWh | E25: =+SUM('I01'!E25,'I06'!E25) -> 2.5506843e+09 | F25: 0.089569 | G25: =+F25*$E25 -> 2.2846224e+08 | H25: 0.099581 | I25: =+H25*$E25 -> 2.539997e+08 | L25: Season Energy Rate Differential - Current | O25: =+F23/F28 -> 1.1715413
C26: =+C25-1 -> -10 | D26: 801-2,000 kWh | E26: =+SUM('I01'!E26,'I06'!E26) -> 1.0295976e+09 | F26: 0.09875 | G26: =+F26*$E26 -> 1.0167276e+08 | H26: 0.104567 | I26: =+H26*$E26 -> 1.0766193e+08 | L26: Season Energy Rate Differential - Proposed | O26: =+AVERAGE(O24:O25) -> 1.2809628
C27: =+C26-1 -> -11 | D27: All Additional kWh | E27: =+SUM('I01'!E27,'I06'!E27) -> 3.5823269e+08 | F27: 0.109361 | G27: =+F27*$E27 -> 39176686 | H27: 0.110331 | I27: =+H27*$E27 -> 39524171 | L27: Residential - Distribution + Customer | O27: 2.6713769e+08
C28: =+C27-1 -> -12 | D28: Subtotal - Non-Summer Energy | E28: =+SUM(E25:E27) -> 3.9385146e+09 | F28: =+G28/$E28 -> 0.093769283 | G28: =+SUM(G25:G27) -> 3.6931169e+08 | H28: =+H23/O26 -> 0.101862 | I28: =+SUM(I25:I27) -> 4.011858e+08 | L28: Residential - Meter Readings | O28: 6235774.9
C29: =+C28-1 -> -13 | D29: Subtotal - Total Energy | E29: =+SUM(E28,E23) -> 5.8424901e+09 | G29: =+SUM(G28,G23) -> 5.7847213e+08 | I29: =+SUM(I28,I23) -> 6.4961838e+08 | L29: Residential CCOS - Service Charge | O29: =+O27/O28 -> 42.839535
C30: =+C29-1 -> -14 | D30: Transfer Adjustment Revenue | G30: =+SUM('I01'!G30,'I06'!G30) -> 17688957 | L30: Step | O30: 2
C31: =+C30-1 -> -15 | D31: Total Adjusted Base Revenue | G31: =+SUM(G17:G18,G23,G28,G30) -> 6.9307051e+08 | I31: =+SUM(I29,I17:I18) -> 8.1102438e+08
L32: Check vs. Revenue Forecast | O32: 0
C33: § END | D33: § | E33: § | F33: § | G33: § | H33: § | I33: END §
L34: Energy Tier Ratio | N34: Current | O34: Proposed
L35: Summer Tier 1 | N35: =+F20/$F$23 -> 0.9264884 | O35: =+SUM(N35,(1-N35)/$O$30) -> 0.9632442
L36: Summer Tier 2 | N36: =+F21/$F$23 -> 1.1140181 | O36: =+SUM(N36,(1-N36)/$O$30) -> 1.0570091
L37: Summer Tier 3 | N37: =+F22/$F$23 -> 1.3234313 | O37: =+SUM(N37,(1-N37)/$O$30) -> 1.1617157
L38: Non-Summer Tier 1 | N38: =+F25/$F$28 -> 0.95520619 | O38: =+SUM(N38,(1-N38)/$O$30) -> 0.9776031
L39: Non-Summer Tier 2 | N39: =+F26/$F$28 -> 1.0531167 | O39: =+SUM(N39,(1-N39)/$O$30) -> 1.0265584
L40: Non-Summer Tier 3 | N40: =+F27/$F$28 -> 1.1662774 | O40: =+SUM(N40,(1-N40)/$O$30) -> 1.0831387
L42: Rounding Adjustment | O42: -2e-06

Sheet I01
C3: Idaho Power Company
C4: State of Idaho
C5: Calculation of Proposed Rates
C6: Filed May 30, 2025
C7: IPC-E-25-16
C9: Residential Service Standard Plan
C10: Schedule 1
C12: Column | D12: (A) | E12: (B) | F12: (C) | G12: (D) | H12: (E) | I12: (F)
E14: Test Year | F14: Current | G14: Test Year | H14: Proposed | I14: Proposed
C15: Line | E15: Billing | F15: Base | G15: Base | H15: Effective | I15: Effective
C16: No. | D16: Description | E16: Units | F16: Rate | G16: Revenue | H16: Rate | I16: Revenue
C17: -1 | D17: Service Charge | E17: 6223666.2 | F17: 15 | G17: =+F17*$E17 -> 93354993 | H17: ='I01+I06'!H17 -> 25 | I17: =+H17*$E17 -> 155591655 | L17: =+_xlfn.CONCAT(C9,", ",C10) -> Residential Service Standard Plan, Schedule 1
C18: =+C17-1 -> -2 | D18: Minimum Charge | E18: 54175.667 | F18: 3 | G18: =+F18*$E18 -> 162527 | H18: ='I01+I06'!H18 -> 3 | I18: =+H18*$E18 -> 162527 | L18: In Adjusted Base Revenue | O18: =+I31 -> 7.8477767e+08
C19: =+C18-1 -> -3 | D19: Summer Energy (Jun-Sep) | L19: Target Adjusted Base Revenue | O19: =+G31*(1+O23) -> 7.8489008e+08
C20: =+C19-1 -> -4 | D20: First 800 kWh | E20: 1.2242544e+09 | F20: 0.101779 | G20: =+F20*$E20 -> 1.2460339e+08 | H20: ='I01+I06'!H20 -> 0.125685 | I20: =+H20*$E20 -> 1.5387041e+08 | L20: D | O20: =+O18-O19 -> -112411.58
C21: =+C20-1 -> -5 | D21: 801-2,000 kWh | E21: 5.3210495e+08 | F21: 0.12238 | G21: =+F21*$E21 -> 65119004 | H21: ='I01+I06'!H21 -> 0.13792 | I21: =+H21*$E21 -> 73387915
C22: =+C21-1 -> -6 | D22: All Additional kWh | E22: 93673900 | F22: 0.145385 | G22: =+F22*$E22 -> 13618780 | H22: ='I01+I06'!H22 -> 0.15158 | I22: =+H22*$E22 -> 14199090 | L22: Adjusted Base Revenue Change | O22: =+O18/G31-1 -> 0.17002276
C23: =+C22-1 -> -7 | D23: Subtotal - Summer Energy | E23: =+SUM(E20:E22) -> 1.8500332e+09 | F23: =+G23/$E23 -> 0.10991217 | G23: =+SUM(G20:G22) -> 2.0334117e+08 | H23: =+I23/$E23 -> 0.13051518 | I23: =+SUM(I20:I22) -> 2.4145742e+08 | L23: Target Adjusted Base Revenue | O23: ='I01+I06'!$O$23 -> 0.17019035
C24: =+C23-1 -> -8 | D24: Non-Summer Energy (Oct-May) | L24: Season Cost Ratio (Unit Cost Sheet) | O24: 1.3903844
C25: =+C24-1 -> -9 | D25: First 800 kWh | E25: 2.4645685e+09 | F25: 0.089569 | G25: =+F25*$E25 -> 2.2074894e+08 | H25: ='I01+I06'!H25 -> 0.099581 | I25: =+H25*$E25 -> 2.454242e+08 | L25: Season Energy Rate Differential - Current | O25: =+F23/F28 -> 1.1722672
C26: =+C25-1 -> -10 | D26: 801-2,000 kWh | E26: 9.9722831e+08 | F26: 0.09875 | G26: =+F26*$E26 -> 98476295 | H26: ='I01+I06'!H26 -> 0.104567 | I26: =+H26*$E26 -> 1.0427717e+08 | L26: Season Energy Rate Differential - Proposed | O26: =+H23/H28 -> 1.2813526
C27: =+C26-1 -> -11 | D27: All Additional kWh | E27: 3.4319185e+08 | F27: 0.109361 | G27: =+F27*$E27 -> 37531804 | H27: ='I01+I06'!H27 -> 0.110331 | I27: =+H27*$E27 -> 37864700
C28: =+C27-1 -> -12 | D28: Subtotal - Non-Summer Energy | E28: =+SUM(E25:E27) -> 3.8049887e+09 | F28: =+G28/$E28 -> 0.093760341 | G28: =+SUM(G25:G27) -> 3.5675704e+08 | H28: =+I28/$E28 -> 0.10185735 | I28: =+SUM(I25:I27) -> 3.8756607e+08
C29: =+C28-1 -> -13 | D29: Subtotal - Total Energy | E29: =+SUM(E28,E23) -> 5.6550219e+09 | G29: =+SUM(G28,G23) -> 5.6009821e+08 | I29: =+SUM(I28,I23) -> 6.2902349e+08
C30: =+C29-1 -> -14 | D30: Transfer Adjustment Revenue | G30: 17121371
C31: =+C30-1 -> -15 | D31: Total Adjusted Base Revenue | G31: =+SUM(G17:G18,G23,G28,G30) -> 6.707371e+08 | I31: =+SUM(I29,I17:I18) -> 7.8477767e+08 | L31: Check vs. Revenue Forecast | O31: 0
C33: § END | D33: § | E33: § | F33: § | G33: § | H33: § | I33: END §
I38: .

Sheet I06
C3: Idaho Power Company
C4: State of Idaho
C5: Calculation of Proposed Rates
C6: Filed May 30, 2025
C7: IPC-E-25-16
C9: Residential Service On-Site Generation
C10: Schedule 6
C12: Column | D12: (A) | E12: (B) | F12: (C) | G12: (D) | H12: (E) | I12: (F)
E14: Test Year | F14: Current | G14: Test Year | H14: Proposed | I14: Proposed
C15: Line | E15: Billing | F15: Base | G15: Base | H15: Effective | I15: Effective
C16: No. | D16: Description | E16: Units | F16: Rate | G16: Revenue | H16: Rate | I16: Revenue
C17: -1 | D17: Service Charge | E17: 225992.2 | F17: 15 | G17: =+F17*$E17 -> 3389883 | H17: ='I01+I06'!H17 -> 25 | I17: =+H17*$E17 -> 5649805 | L17: =+_xlfn.CONCAT(C9,", ",C10) -> Residential Service On-Site Generation, Schedule 6
C18: =+C17-1 -> -2 | D18: Minimum Charge | E18: 672 | F18: 3 | G18: =+F18*$E18 -> 2016 | H18: ='I01+I06'!H18 -> 3 | I18: =+H18*$E18 -> 2016 | L18: In Adjusted Base Revenue | O18: =+I31 -> 26246710
C19: =+C18-1 -> -3 | D19: Summer Energy (Jun-Sep) | L19: Target Adjusted Base Revenue | O19: =+G31*(1+O23) -> 26134333
C20: =+C19-1 -> -4 | D20: First 800 kWh | E20: 40530339 | F20: 0.101779 | G20: =+F20*$E20 -> 4125137.4 | H20: ='I01+I06'!H20 -> 0.125685 | I20: =+H20*$E20 -> 5094055.7 | L20: D | O20: =+O18-O19 -> 112377.05
C21: =+C20-1 -> -5 | D21: 801-2,000 kWh | E21: 11117494 | F21: 0.12238 | G21: =+F21*$E21 -> 1360558.9 | H21: ='I01+I06'!H21 -> 0.13792 | I21: =+H21*$E21 -> 1533324.8
C22: =+C21-1 -> -6 | D22: All Additional kWh | E22: 2294378.7 | F22: 0.145385 | G22: =+F22*$E22 -> 333568.25 | H22: ='I01+I06'!H22 -> 0.15158 | I22: =+H22*$E22 -> 347781.92 | L22: Adjusted Base Revenue Change | O22: =+O18/G31-1 -> 0.17522214
C23: =+C22-1 -> -7 | D23: Subtotal - Summer Energy | E23: =+SUM(E20:E22) -> 53942212 | F23: =+G23/E23 -> 0.10787961 | G23: =+SUM(G20:G22) -> 5819264.6 | H23: =+I23/$E23 -> 0.12930805 | I23: =+SUM(I20:I22) -> 6975162.4 | L23: Target Adjusted Base Revenue | O23: ='I01+I06'!$O$23 -> 0.17019035
C24: =+C23-1 -> -8 | D24: Non-Summer Energy (Oct-May) | L24: Season Cost Ratio (Unit Cost Sheet) | O24: 1.4855344
C25: =+C24-1 -> -9 | D25: First 800 kWh | E25: 86115783 | F25: 0.089569 | G25: =+F25*$E25 -> 7713304.5 | H25: ='I01+I06'!H25 -> 0.099581 | I25: =+H25*$E25 -> 8575495.7 | L25: Season Energy Rate Differential - Current | O25: =+F23/F28 -> 1.1473613
C26: =+C25-1 -> -10 | D26: 801-2,000 kWh | E26: 32369289 | F26: 0.09875 | G26: =+F26*$E26 -> 3196467.3 | H26: ='I01+I06'!H26 -> 0.104567 | I26: =+H26*$E26 -> 3384759.4 | L26: Season Energy Rate Differential - Proposed | O26: =+H23/H28 -> 1.2677183
C27: =+C26-1 -> -11 | D27: All Additional kWh | E27: 15040846 | F27: 0.109361 | G27: =+F27*$E27 -> 1644882 | H27: ='I01+I06'!H27 -> 0.110331 | I27: =+H27*$E27 -> 1659471.6
C28: =+C27-1 -> -12 | D28: Subtotal - Non-Summer Energy | E28: =+SUM(E25:E27) -> 1.3352592e+08 | F28: =+G28/E28 -> 0.094024097 | G28: =+SUM(G25:G27) -> 12554654 | H28: =+I28/$E28 -> 0.10200062 | I28: =+SUM(I25:I27) -> 13619727
C29: =+C28-1 -> -13 | D29: Subtotal - Total Energy | E29: =+SUM(E28,E23) -> 1.8746813e+08 | G29: =+SUM(G28,G23) -> 18373918 | I29: =+SUM(I28,I23) -> 20594889
C30: =+C29-1 -> -14 | D30: Transfer Adjustment Revenue | G30: 567586.02
C31: =+C30-1 -> -15 | D31: Total Adjusted Base Revenue | G31: =+SUM(G17:G18,G23,G28,G30) -> 22333403 | I31: =+SUM(I29,I17:I18) -> 26246710 | L31: Check vs. Revenue Forecast | O31: 0
C33: § END | D33: § | E33: § | F33: § | G33: § | H33: § | I33: END §

Sheet I03
C3: Idaho Power Company
C4: State of Idaho
C5: Calculation of Proposed Rates
C6: Filed May 30, 2025
C7: IPC-E-25-16
C9: Master-Metered Mobile Home Park Residential Service
C10: Schedule 3
C12: Column | D12: (A) | E12: (B) | F12: (C) | G12: (D) | H12: (E) | I12: (F)
E14: Test Year | F14: Current | G14: Test Year | H14: Proposed | I14: Proposed
C15: Line | E15: Billing | F15: Base | G15: Base | H15: Effective | I15: Effective
C16: No. | D16: Description | E16: Units | F16: Rate | G16: Revenue | H16: Rate | I16: Revenue
C17: -1 | D17: Service Charge | E17: 227.089 | F17: 15 | G17: =+F17*$E17 -> 3406.335 | H17: ='I01+I06'!$H$17 -> 25 | I17: =+H17*$E17 -> 5677.225 | L17: =+_xlfn.CONCAT(C9,", ",C10) -> Master-Metered Mobile Home Park Residential Service, Schedule 3
C18: =+C17-1 -> -2 | D18: Total Energy | E18: 5073613.2 | F18: 0.109482 | G18: =+F18*$E18 -> 555469.32 | H18: 0.131324 | I18: =+H18*$E18 -> 666287.17 | L18: In Adjusted Base Revenue | O18: =+I20 -> 671964.4
C19: =+C18-1 -> -3 | D19: Transfer Adjustment Revenue | G19: 15361.075 | L19: Target Adjusted Base Revenue | O19: =+G20*(1+O23) -> 671966.27
C20: =+C19-1 -> -4 | D20: Total Adjusted Base Revenue | G20: =+SUM(G17:G19) -> 574236.73 | I20: =+SUM(I17:I19) -> 671964.4 | L20: D | O20: =+O18-O19 -> -1.8752983
C22: § END | D22: § | E22: § | F22: § | G22: § | H22: § | I22: END § | L22: Adjusted Base Revenue Change | O22: =+O18/$G$20-1 -> 0.17018708
L23: Target Adjusted Base Revenue | O23: 0.17019035
L25: Check vs. Revenue Forecast | O25: 0
L27: Rounding Adjustment | O27: 0

Sheet I05+IO6 TOU
C3: Idaho Power Company
C4: State of Idaho
C5: Calculation of Proposed Rates
C6: Filed May 30, 2025
C7: IPC-E-25-16
C9: Residential Service - Time-of-Use
C10: Schedule 5 + 6 TOU
C12: Column | D12: (A) | E12: (B) | F12: (C) | G12: (D) | H12: (E) | I12: (F)
E14: Test Year | F14: Current | G14: Test Year | H14: Proposed | I14: Proposed
C15: Line | E15: Billing | F15: Base | G15: Base | H15: Effective | I15: Effective
C16: No. | D16: Description | E16: Units | F16: Rate | G16: Revenue | H16: Rate | I16: Revenue
C17: -1 | D17: Service Charge | E17: ='I05'!E17+'I06 TOU'!E17 -> 12227.585 | F17: 15 | G17: =+F17*$E17 -> 183413.77 | H17: ='I01+I06'!$H$17 -> 25 | I17: =+H17*$E17 -> 305689.61 | L17: =+_xlfn.CONCAT(C9,", ",C10) -> Residential Service - Time-of-Use, Schedule 5 + 6 TOU
C18: =+C17-1 -> -2 | D18: Minimum Charge | E18: ='I05'!E18+'I06 TOU'!E18 -> 14 | F18: 3 | G18: =+F18*$E18 -> 42 | H18: =F18 -> 3 | I18: =+H18*$E18 -> 42 | L18: In Adjusted Base Revenue | O18: =+I30 -> 2459609.9
C19: =+C18-1 -> -3 | D19: Summer Energy (Jun-Sep) | L19: Target Adjusted Base Revenue | O19: =+G30*(1+O23) -> 2459614.3
C20: =+C19-1 -> -4 | D20: On-Peak | E20: ='I05'!E20+'I06 TOU'!E20 -> 1031678.9 | F20: 0.252957 | G20: =+F20*$E20 -> 260970.39 | H20: 0.322968 | I20: =+H20*$E20 -> 333199.25 | L20: D | O20: =+O18-O19 -> -4.4211238
C21: =+C20-1 -> -5 | D21: Mid-Peak | E21: ='I05'!E21+'I06 TOU'!E21 -> 1078494.3 | F21: 0.12648 | G21: =+F21*$E21 -> 136407.96 | H21: 0.161484 | I21: =+H21*$E21 -> 174159.58
C22: =+C21-1 -> -6 | D22: Off-Peak | E22: ='I05'!E22+'I06 TOU'!E22 -> 3821764.5 | F22: 0.063241 | G22: =+F22*$E22 -> 241692.21 | H22: 0.080742 | I22: =+H22*$E22 -> 308576.91 | L22: Adjusted Base Revenue Change | O22: =+O18/$G$30-1 -> 0.17018825
C23: =+C22-1 -> -7 | D23: Subtotal - Summer Energy | E23: =+SUM(E20:E22) -> 5931937.7 | F23: =+G23/$E23 -> 0.10773386 | G23: =+SUM(G20:G22) -> 639070.56 | H23: =(O19-I17-I18)/(SUM(E20:E22)+(SUM(E25:E26))/O26) -> 0.13754955 | I23: =+SUM(I20:I22) -> 815935.74 | L23: Target Adjusted Base Revenue | O23: 0.17019035
C24: =+C23-1 -> -8 | D24: Non-Summer Energy (Oct-May) | L24: Season Cost Ratio (Unit Cost Sheet) | O24: 1.3903844
C25: =+C24-1 -> -9 | D25: On-Peak | E25: ='I05'!E25+'I06 TOU'!E25 -> 3071371.4 | F25: 0.13115 | G25: =+F25*$E25 -> 402810.36 | H25: 0.143396 | I25: =+H25*$E25 -> 440422.37 | L25: Season Energy Rate Differential - Current | O25: =+F23/F27 -> 1.0969832
C26: =+C25-1 -> -10 | D26: Off-Peak | E26: ='I05'!E26+'I06 TOU'!E26 -> 9388580.4 | F26: 0.087433 | G26: =+F26*$E26 -> 820871.75 | H26: 0.095597 | I26: =+H26*$E26 -> 897520.12 | L26: Season Energy Rate Differential - Proposed | O26: ='I01+I06'!$O$26 -> 1.2809628
C27: =+C26-1 -> -11 | D27: Subtotal - Non-Summer Energy | E27: =+SUM(E25:E26) -> 12459952 | F27: =+G27/$E27 -> 0.098209217 | G27: =+SUM(G25:G26) -> 1223682.1 | H27: =+H23/O26 -> 0.10737981 | I27: =+SUM(I25:I26) -> 1337942.5
C28: =+C27-1 -> -12 | D28: Subtotal - Total Energy | E28: =+SUM(E27,E23) -> 18391889 | G28: =+SUM(G27,G23) -> 1862752.7 | I28: =+SUM(I27,I23) -> 2153878.2 | L28: On:Off Differential - Summer (Current) | O28: =+F20/$F$22 -> 3.9998893
C29: =+C28-1 -> -13 | D29: Transfer Adjustment Revenue | G29: ='I05'!G29+'I06 TOU'!G29 -> 55684.022 | L29: Mid:Off Differential - Summer (Current) | O29: =+F21/$F$22 -> 1.9999684
C30: =+C29-1 -> -14 | D30: Total Adjusted Base Revenue | G30: =+SUM(G17:G18,G23,G27,G29) -> 2101892.5 | I30: =+SUM(I28,I17:I18) -> 2459609.9 | L30: On:Off Differential - Non-Summer (Current) | O30: =+F25/$F$26 -> 1.5000057
L31: On:Off Differential - Summer (Proposed) | O31: 4
C32: § END | D32: § | E32: § | F32: § | G32: § | H32: § | I32: END § | L32: Mid:Off Differential - Summer (Proposed) | O32: 2
L33: On:Off Differential - Non-Summer (Proposed) | O33: 1.5
L35: Check vs. Revenue Forecast | O35: 0
L37: Rounding Adjustment | O37: 0

Sheet I05
C3: Idaho Power Company
C4: State of Idaho
C5: Calculation of Proposed Rates
C6: Filed May 30, 2025
C7: IPC-E-25-16
C9: Residential Service - Time-of-Use Plan
C10: Schedule 5
C12: Column | D12: (A) | E12: (B) | F12: (C) | G12: (D) | H12: (E) | I12: (F)
E14: Test Year | F14: Current | G14: Test Year | H14: Proposed | I14: Proposed
C15: Line | E15: Billing | F15: Base | G15: Base | H15: Effective | I15: Effective
C16: No. | D16: Description | E16: Units | F16: Rate | G16: Revenue | H16: Rate | I16: Revenue
C17: -1 | D17: Service Charge | E17: 11881.6 | F17: 15 | G17: =+F17*$E17 -> 178224 | H17: ='I05+IO6 TOU'!H17 -> 25 | I17: =+H17*$E17 -> 297040 | L17: =+_xlfn.CONCAT(C9,", ",C10) -> Residential Service - Time-of-Use Plan, Schedule 5
C18: =+C17-1 -> -2 | D18: Minimum Charge | E18: 11 | F18: 3 | G18: =+F18*$E18 -> 33 | H18: =F18 -> 3 | I18: =+H18*$E18 -> 33 | L18: In Adjusted Base Revenue | O18: =+I30 -> 2410787.6
C19: =+C18-1 -> -3 | D19: Summer Energy (Jun-Sep) | L19: Target Adjusted Base Revenue | O19: =+G30*(1+O23) -> 2411037.1
C20: =+C19-1 -> -4 | D20: On-Peak | E20: 1017778.9 | F20: 0.252957 | G20: =+F20*$E20 -> 257454.3 | H20: ='I05+IO6 TOU'!H20 -> 0.322968 | I20: =+H20*$E20 -> 328710.02 | L20: D | O20: =+O18-O19 -> -249.49307
C21: =+C20-1 -> -5 | D21: Mid-Peak | E21: 1073980.4 | F21: 0.12648 | G21: =+F21*$E21 -> 135837.04 | H21: ='I05+IO6 TOU'!H21 -> 0.161484 | I21: =+H21*$E21 -> 173430.65
C22: =+C21-1 -> -6 | D22: Off-Peak | E22: 3741491.9 | F22: 0.063241 | G22: =+F22*$E22 -> 236615.69 | H22: ='I05+IO6 TOU'!H22 -> 0.080742 | I22: =+H22*$E22 -> 302095.54 | L22: Adjusted Base Revenue Change | O22: =+O18/$G$30-1 -> 0.17006926
C23: =+C22-1 -> -7 | D23: Subtotal - Summer Energy | E23: =+SUM(E20:E22) -> 5833251.2 | F23: =+G23/$E23 -> 0.10798558 | G23: =+SUM(G20:G22) -> 629907.03 | H23: =I23/E23 -> 0.13787101 | I23: =+SUM(I20:I22) -> 804236.21 | L23: Target Adjusted Base Revenue | O23: 0.17019035
C24: =+C23-1 -> -8 | D24: Non-Summer Energy (Oct-May) | L24: Season Cost Ratio (Unit Cost Sheet) | O24: 1.3903844
C25: =+C24-1 -> -9 | D25: On-Peak | E25: 3016126.6 | F25: 0.13115 | G25: =+F25*$E25 -> 395565 | H25: ='I05+IO6 TOU'!H25 -> 0.143396 | I25: =+H25*$E25 -> 432500.49 | L25: Season Energy Rate Differential - Current | O25: =+F23/F27 -> 1.0990911
C26: =+C25-1 -> -10 | D26: Off-Peak | E26: 9173696.8 | F26: 0.087433 | G26: =+F26*$E26 -> 802083.83 | H26: ='I05+IO6 TOU'!H26 -> 0.095597 | I26: =+H26*$E26 -> 876977.89 | L26: Season Energy Rate Differential - Proposed | O26: =+H23/H27 -> 1.2834295
C27: =+C26-1 -> -11 | D27: Subtotal - Non-Summer Energy | E27: =+SUM(E25:E26) -> 12189823 | F27: =+G27/$E27 -> 0.098249892 | G27: =+SUM(G25:G26) -> 1197648.8 | H27: =I27/E27 -> 0.1074239 | I27: =+SUM(I25:I26) -> 1309478.4
C28: =+C27-1 -> -12 | D28: Subtotal - Total Energy | E28: =+SUM(E27,E23) -> 18023075 | G28: =+SUM(G27,G23) -> 1827555.9 | I28: =+SUM(I27,I23) -> 2113714.6 | L28: On:Off Differential - Summer (Current) | O28: =+F20/$F$22 -> 3.9998893
C29: =+C28-1 -> -13 | D29: Transfer Adjustment Revenue | G29: 54567.383 | L29: Mid:Off Differential - Summer (Current) | O29: =+F21/$F$22 -> 1.9999684
C30: =+C29-1 -> -14 | D30: Total Adjusted Base Revenue | G30: =+SUM(G17:G18,G23,G27,G29) -> 2060380.2 | I30: =+SUM(I28,I17:I18) -> 2410787.6 | L30: On:Off Differential - Non-Summer (Current) | O30: =+F25/$F$26 -> 1.5000057
L31: On:Off Differential - Summer (Proposed) | O31: =+H20/H22 -> 4
C32: § END | D32: § | E32: § | F32: § | G32: § | H32: § | I32: END § | L32: Mid:Off Differential - Summer (Proposed) | O32: =+H21/H22 -> 2
L33: On:Off Differential - Non-Summer (Proposed) | O33: =+H25/H26 -> 1.5000052
L35: Check vs. Revenue Forecast | O35: 0

Sheet I06 TOU
C3: Idaho Power Company
C4: State of Idaho
C5: Calculation of Proposed Rates
C6: Filed May 30, 2025
C7: IPC-E-25-16
C9: Residential Service - Time-of-Use
C10: Schedule 6 TOU
C12: Column | D12: (A) | E12: (B) | F12: (C) | G12: (D) | H12: (E) | I12: (F)
E14: Test Year | F14: Current | G14: Test Year | H14: Proposed | I14: Proposed
C15: Line | E15: Billing | F15: Base | G15: Base | H15: Effective | I15: Effective
C16: No. | D16: Description | E16: Units | F16: Rate | G16: Revenue | H16: Rate | I16: Revenue
C17: -1 | D17: Service Charge | E17: 345.9846 | F17: 15 | G17: =+F17*$E17 -> 5189.769 | H17: ='I05+IO6 TOU'!H17 -> 25 | I17: =+H17*$E17 -> 8649.615 | L17: =+_xlfn.CONCAT(C9,", ",C10) -> Residential Service - Time-of-Use, Schedule 6 TOU
C18: =+C17-1 -> -2 | D18: Minimum Charge | E18: 3 | F18: 3 | G18: =+F18*$E18 -> 9 | H18: =F18 -> 3 | I18: =+H18*$E18 -> 9 | L18: In Adjusted Base Revenue | O18: =+I30 -> 48822.262
C19: =+C18-1 -> -3 | D19: Summer Energy (Jun-Sep) | L19: Target Adjusted Base Revenue | O19: =+G30*(1+O23) -> 48577.19
C20: =+C19-1 -> -4 | D20: On-Peak | E20: 13899.928 | F20: 0.252957 | G20: =+F20*$E20 -> 3516.0841 | H20: ='I05+IO6 TOU'!H20 -> 0.322968 | I20: =+H20*$E20 -> 4489.232 | L20: D | O20: =+O18-O19 -> 245.07194
C21: =+C20-1 -> -5 | D21: Mid-Peak | E21: 4513.9563 | F21: 0.12648 | G21: =+F21*$E21 -> 570.92519 | H21: ='I05+IO6 TOU'!H21 -> 0.161484 | I21: =+H21*$E21 -> 728.93172
C22: =+C21-1 -> -6 | D22: Off-Peak | E22: 80272.588 | F22: 0.063241 | G22: =+F22*$E22 -> 5076.5188 | H22: ='I05+IO6 TOU'!H22 -> 0.080742 | I22: =+H22*$E22 -> 6481.3693 | L22: Adjusted Base Revenue Change | O22: =+O18/$G$30-1 -> 0.17609396
C23: =+C22-1 -> -7 | D23: Subtotal - Summer Energy | E23: =+SUM(E20:E22) -> 98686.473 | F23: =+G23/$E23 -> 0.092854956 | G23: =+SUM(G20:G22) -> 9163.5281 | H23: =I23/E23 -> 0.11855255 | I23: =+SUM(I20:I22) -> 11699.533 | L23: Target Adjusted Base Revenue | O23: ='I01+I06'!$O$23 -> 0.17019035
C24: =+C23-1 -> -8 | D24: Non-Summer Energy (Oct-May) | L24: Season Cost Ratio (Unit Cost Sheet) | O24: ='I01'!$O$24 -> 1.3903844
C25: =+C24-1 -> -9 | D25: On-Peak | E25: 55244.812 | F25: 0.13115 | G25: =+F25*$E25 -> 7245.3571 | H25: ='I05+IO6 TOU'!H25 -> 0.143396 | I25: =+H25*$E25 -> 7921.885 | L25: Season Energy Rate Differential - Current | O25: =+F23/F27 -> 0.96348854
C26: =+C25-1 -> -10 | D26: Off-Peak | E26: 214883.61 | F26: 0.087433 | G26: =+F26*$E26 -> 18787.919 | H26: ='I05+IO6 TOU'!H26 -> 0.095597 | I26: =+H26*$E26 -> 20542.229 | L26: Season Energy Rate Differential - Proposed | O26: =+AVERAGE(O24:O25) -> 1.1769365
C27: =+C26-1 -> -11 | D27: Subtotal - Non-Summer Energy | E27: =+SUM(E25:E26) -> 270128.43 | F27: =+G27/$E27 -> 0.096373701 | G27: =+SUM(G25:G26) -> 26033.276 | H27: =I27/E27 -> 0.10537252 | I27: =+SUM(I25:I26) -> 28464.114
C28: =+C27-1 -> -12 | D28: Subtotal - Total Energy | E28: =+SUM(E27,E23) -> 368814.9 | G28: =+SUM(G27,G23) -> 35196.804 | I28: =+SUM(I27,I23) -> 40163.647 | L28: On:Off Differential - Summer (Current) | O28: =+F20/$F$22 -> 3.9998893
C29: =+C28-1 -> -13 | D29: Transfer Adjustment Revenue | G29: 1116.6389 | L29: Mid:Off Differential - Summer (Current) | O29: =+F21/$F$22 -> 1.9999684
C30: =+C29-1 -> -14 | D30: Total Adjusted Base Revenue | G30: =+SUM(G17:G18,G23,G27,G29) -> 41512.212 | I30: =+SUM(I28,I17:I18) -> 48822.262 | L30: On:Off Differential - Non-Summer (Current) | O30: =+F25/$F$26 -> 1.5000057
L31: On:Off Differential - Summer (Proposed) | O31: =+H20/H22 -> 4
C32: § END | D32: § | E32: § | F32: § | G32: § | H32: § | I32: END § | L32: Mid:Off Differential - Summer (Proposed) | O32: =+H21/H22 -> 2
L33: On:Off Differential - Non-Summer (Proposed) | O33: =+H25/H26 -> 1.5000052
L35: Check vs. Revenue Forecast | O35: 0
N46: .

Sheet I07+I08
C3: Idaho Power Company
C4: State of Idaho
C5: Calculation of Proposed Rates
C6: Filed May 30, 2025
C7: IPC-E-25-16
C9: Small General Service
C10: Schedule 7 and Schedule 8
C12: Column | D12: (A) | E12: (B) | F12: (C) | G12: (D) | H12: (E) | I12: (F)
E14: Test Year | F14: Current | G14: Test Year | H14: Proposed | I14: Proposed
C15: Line | E15: Billing | F15: Base | G15: Base | H15: Effective | I15: Effective
C16: No. | D16: Description | E16: Units | F16: Rate | G16: Revenue | H16: Rate | I16: Revenue
C17: -1 | D17: Service Charge | E17: =+SUM('I07'!E17,'I08'!E17) -> 361405.9 | F17: 25 | G17: =+F17*$E17 -> 9035147.5 | H17: =+ROUNDDOWN(O29,-1) -> 30 | I17: =+H17*$E17 -> 10842177 | L17: =+_xlfn.CONCAT(C9,", ",C10) -> Small General Service, Schedule 7 and Schedule 8
C18: =+C17-1 -> -2 | D18: Minimum Charge | E18: =+SUM('I07'!E18,'I08'!E18) -> 293.66667 | F18: 3 | G18: =+F18*$E18 -> 881 | H18: =F18 -> 3 | I18: =+H18*$E18 -> 881 | L18: In Adjusted Base Revenue | O18: =+I29 -> 23641507
C19: =+C18-1 -> -3 | D19: Summer Energy (Jun-Sep) | L19: Target Adjusted Base Revenue | O19: =+G29*(1+O23) -> 23641536
C20: =+C19-1 -> -4 | D20: First 300 kWh | E20: =+SUM('I07'!E20,'I08'!E20) -> 21553455 | F20: 0.074534 | G20: =+F20*$E20 -> 1606465.2 | H20: 0.088802 | I20: =+H20*$E20 -> 1913989.9 | L20: D | O20: =+O18-O19 -> -28.489327
C21: =+C20-1 -> -5 | D21: All Additional kWh | E21: =+SUM('I07'!E21,'I08'!E21) -> 25566818 | F21: 0.085176 | G21: =+F21*$E21 -> 2177679.3 | H21: 0.101485 | I21: =+H21*$E21 -> 2594648.5
C22: =+C21-1 -> -6 | D22: Subtotal - Summer Energy | E22: =+SUM(E20:E21) -> 47120273 | F22: =+G22/$E22 -> 0.080308204 | G22: =+SUM(G20:G21) -> 3784144.5 | H22: =(O19-I17-I18)/(SUM(E20:E21)+(SUM(E24:E25))/O26) -> 0.095683795 | I22: =+SUM(I20:I21) -> 4508638.4 | L22: Adjusted Base Revenue Change | O22: =+O18/$G$29-1 -> 0.17018894
C23: =+C22-1 -> -7 | D23: Non-Summer Energy (Oct-May) | L23: Target Adjusted Base Revenue | O23: 0.17019035
C24: =+C23-1 -> -8 | D24: First 300 kWh | E24: =+SUM('I07'!E24,'I08'!E24) -> 44503584 | F24: 0.074534 | G24: =+F24*$E24 -> 3317030.2 | H24: =+H20 -> 0.088802 | I24: =+H24*$E24 -> 3952007.3 | L24: Season Cost Ratio (Unit Cost Sheet) | O24: 1.1504835
C25: =+C24-1 -> -9 | D25: All Additional kWh | E25: =+SUM('I07'!E25,'I08'!E25) -> 48834292 | F25: 0.074552 | G25: =+F25*$E25 -> 3640694.2 | H25: 0.088827 | I25: =+H25*$E25 -> 4337803.7 | L25: Season Energy Rate Differential - Current | O25: =+F22/F26 -> 1.0773346
C26: =+C25-1 -> -10 | D26: Subtotal - Non-Summer Energy | E26: =+SUM(E24:E25) -> 93337877 | F26: =+G26/$E26 -> 0.074543418 | G26: =+SUM(G24:G25) -> 6957724.3 | H26: =+H22/O26 -> 0.088815298 | I26: =+SUM(I24:I25) -> 8289811 | L26: Season Energy Rate Differential - Proposed | O26: =O25 -> 1.0773346
C27: =+C26-1 -> -11 | D27: Subtotal - Total Energy | E27: =+SUM(E26,E22) -> 1.4045815e+08 | G27: =+SUM(G26,G22) -> 10741869 | I27: =+SUM(I26,I22) -> 12798449 | L27: Small General - Distribution + Customer | O27: 12289902
C28: =+C27-1 -> -12 | D28: Transfer Adjustment Revenue | G28: =+SUM('I07'!G28,'I08'!G28) -> 425256.72 | L28: Small General - Meter Readings | O28: 360411.9
C29: =+C28-1 -> -13 | D29: Total Adjusted Base Revenue | G29: =+SUM(G17:G18,G22,G26,G28) -> 20203154 | I29: =+SUM(I27,I17:I18) -> 23641507 | L29: CCOS - Service Charge | O29: =+O27/O28 -> 34.099601
C31: § END | D31: § | E31: § | F31: § | G31: § | H31: § | I31: END § | L31: Check vs. Revenue Forecast | O31: 0
L33: Rounding Adjustment | O33: -2e-06
L35: Energy Tier Ratio | N35: Current | O35: Proposed
L36: Summer Tier 1 | N36: =+F20/$F$22 -> 0.92809945 | O36: =+N36 -> 0.92809945
L37: Summer Tier 2 | N37: =+F21/$F$22 -> 1.0606139 | O37: =+H21/H22 -> 1.0606289
L38: Non-Summer Tier 1 | N38: =+F24/$F$26 -> 0.99987366 | O38: =+H24/$H$26 -> 0.99985027
L39: Non-Summer Tier 2 | N39: =+F25/$F$26 -> 1.0001151 | O39: =+H25/$H$26 -> 1.0001318

Sheet I07
C3: Idaho Power Company
C4: State of Idaho
C5: Calculation of Proposed Rates
C6: Filed May 30, 2025
C7: IPC-E-25-16
C9: Small General Service
C10: Schedule 7
C12: Column | D12: (A) | E12: (B) | F12: (C) | G12: (D) | H12: (E) | I12: (F)
E14: Test Year | F14: Current | G14: Test Year | H14: Proposed | I14: Proposed
C15: Line | E15: Billing | F15: Base | G15: Base | H15: Effective | I15: Effective
C16: No. | D16: Description | E16: Units | F16: Rate | G16: Revenue | H16: Rate | I16: Revenue
C17: -1 | D17: Service Charge | E17: 360411.9 | F17: 25 | G17: =+F17*$E17 -> 9010297.5 | H17: ='I07+I08'!H17 -> 30 | I17: =+H17*$E17 -> 10812357 | L17: =+_xlfn.CONCAT(C9,", ",C10) -> Small General Service, Schedule 7
C18: =+C17-1 -> -2 | D18: Minimum Charge | E18: 293.66667 | F18: 3 | G18: =+F18*$E18 -> 881 | H18: ='I07+I08'!H18 -> 3 | I18: =+H18*$E18 -> 881 | L18: In Adjusted Base Revenue | O18: =+I29 -> 23563301
C19: =+C18-1 -> -3 | D19: Summer Energy (Jun-Sep) | L19: Target Adjusted Base Revenue | O19: =+G29*(1+O23) -> 23563056
C20: =+C19-1 -> -4 | D20: First 300 kWh | E20: 21484436 | F20: 0.074534 | G20: =+F20*$E20 -> 1601320.9 | H20: ='I07+I08'!H20 -> 0.088802 | I20: =+H20*$E20 -> 1907860.9 | L20: D | O20: =+O18-O19 -> 245.0273
C21: =+C20-1 -> -5 | D21: All Additional kWh | E21: 25463564 | F21: 0.085176 | G21: =+F21*$E21 -> 2168884.6 | H21: ='I07+I08'!H21 -> 0.101485 | I21: =+H21*$E21 -> 2584169.8
C22: =+C21-1 -> -6 | D22: Subtotal - Summer Energy | E22: =+SUM(E20:E21) -> 46948000 | F22: =+G22/$E22 -> 0.080305987 | G22: =+SUM(G20:G21) -> 3770205.5 | H22: =+I22/$E22 -> 0.095680981 | I22: =+SUM(I20:I21) -> 4492030.7 | L22: Adjusted Base Revenue Change | O22: =+O18/G29-1 -> 0.17020252
C23: =+C22-1 -> -7 | D23: Non-Summer Energy (Oct-May) | L23: Target Adjusted Base Revenue | O23: ='I07+I08'!$O$23 -> 0.17019035
C24: =+C23-1 -> -8 | D24: First 300 kWh | E24: 44366384 | F24: 0.074534 | G24: =+F24*$E24 -> 3306804.1 | H24: ='I07+I08'!H24 -> 0.088802 | I24: =+H24*$E24 -> 3939823.6 | L24: Season Cost Ratio (Unit Cost Sheet) | O24: 1.1504835
C25: =+C24-1 -> -9 | D25: All Additional kWh | E25: 48613690 | F25: 0.074552 | G25: =+F25*$E25 -> 3624247.8 | H25: ='I07+I08'!H25 -> 0.088827 | I25: =+H25*$E25 -> 4318208.2 | L25: Season Energy Rate Differential - Current | O25: =+F22/F26 -> 1.077305
C26: =+C25-1 -> -10 | D26: Subtotal - Non-Summer Energy | E26: =+SUM(E24:E25) -> 92980074 | F26: =+G26/$E26 -> 0.074543411 | G26: =+SUM(G24:G25) -> 6931051.9 | H26: =+I26/$E26 -> 0.088815071 | I26: =+SUM(I24:I25) -> 8258031.9 | L26: Season Energy Rate Differential - Proposed | O26: =+H22/H26 -> 1.0773057
C27: =+C26-1 -> -11 | D27: Subtotal - Total Energy | E27: =+SUM(E26,E22) -> 1.3992807e+08 | G27: =+SUM(G26,G22) -> 10701257 | I27: =+SUM(I26,I22) -> 12750063
C28: =+C27-1 -> -12 | D28: Transfer Adjustment Revenue | G28: 423651.85
C29: =+C28-1 -> -13 | D29: Total Adjusted Base Revenue | G29: =+SUM(G17:G18,G22,G26,G28) -> 20136088 | I29: =+SUM(I27,I17:I18) -> 23563301
C31: § END | D31: § | E31: § | F31: § | G31: § | H31: § | I31: END § | L31: Check vs. Revenue Forecast | O31: 0

Sheet I08
C3: Idaho Power Company
C4: State of Idaho
C5: Calculation of Proposed Rates
C6: Filed May 30, 2025
C7: IPC-E-25-16
C9: Small General Service On-Site Generation
C10: Schedule 8
C12: Column | D12: (A) | E12: (B) | F12: (C) | G12: (D) | H12: (E) | I12: (F)
E14: Test Year | F14: Current | G14: Test Year | H14: Proposed | I14: Proposed
C15: Line | E15: Billing | F15: Base | G15: Base | H15: Effective | I15: Effective
C16: No. | D16: Description | E16: Units | F16: Rate | G16: Revenue | H16: Rate | I16: Revenue
C17: -1 | D17: Service Charge | E17: 994 | F17: 25 | G17: =+F17*$E17 -> 24850 | H17: ='I07+I08'!H17 -> 30 | I17: =+H17*$E17 -> 29820 | L17: =+_xlfn.CONCAT(C9,", ",C10) -> Small General Service On-Site Generation, Schedule 8
C18: =+C17-1 -> -2 | D18: Minimum Charge | E18: 0 | F18: 3 | G18: =+F18*$E18 -> 0 | H18: ='I07+I08'!H18 -> 3 | I18: =+H18*$E18 -> 0 | L18: In Adjusted Base Revenue | O18: =+I29 -> 78206.855
C19: =+C18-1 -> -3 | D19: Summer Energy (Jun-Sep) | L19: Target Adjusted Base Revenue | O19: =+G29*(1+O23) -> 78480.372
C20: =+C19-1 -> -4 | D20: First 300 kWh | E20: 69019.172 | F20: 0.074534 | G20: =+F20*$E20 -> 5144.275 | H20: ='I07+I08'!H20 -> 0.088802 | I20: =+H20*$E20 -> 6129.0406 | L20: D | O20: =+O18-O19 -> -273.51663
C21: =+C20-1 -> -5 | D21: All Additional kWh | E21: 103253.58 | F21: 0.085176 | G21: =+F21*$E21 -> 8794.7269 | H21: ='I07+I08'!H21 -> 0.101485 | I21: =+H21*$E21 -> 10478.69
C22: =+C21-1 -> -6 | D22: Subtotal - Summer Energy | E22: =+SUM(E20:E21) -> 172272.75 | F22: =+G22/E22 -> 0.0809124 | G22: =+SUM(G20:G21) -> 13939.002 | H22: =+I22/$E22 -> 0.096403696 | I22: =+SUM(I20:I21) -> 16607.73 | L22: Adjusted Base Revenue Change | O22: =+O18/G29-1 -> 0.16611205
C23: =+C22-1 -> -7 | D23: Non-Summer Energy (Oct-May) | L23: Target Adjusted Base Revenue | O23: ='I07+I08'!$O$23 -> 0.17019035
C24: =+C23-1 -> -8 | D24: First 300 kWh | E24: 137200.19 | F24: 0.074534 | G24: =+F24*$E24 -> 10226.079 | H24: ='I07+I08'!H24 -> 0.088802 | I24: =+H24*$E24 -> 12183.651 | L24: Season Cost Ratio (Unit Cost Sheet) | O24: 1.185915
C25: =+C24-1 -> -9 | D25: All Additional kWh | E25: 220602.67 | F25: 0.074552 | G25: =+F25*$E25 -> 16446.37 | H25: ='I07+I08'!H25 -> 0.088827 | I25: =+H25*$E25 -> 19595.474 | L25: Season Energy Rate Differential - Current | O25: =+F22/F26 -> 1.0854154
C26: =+C25-1 -> -10 | D26: Subtotal - Non-Summer Energy | E26: =+SUM(E24:E25) -> 357802.86 | F26: =+G26/E26 -> 0.074545098 | G26: =+SUM(G24:G25) -> 26672.449 | H26: =+I26/$E26 -> 0.088817414 | I26: =+SUM(I24:I25) -> 31779.125 | L26: Season Energy Rate Differential - Proposed | O26: =+H22/H26 -> 1.0854144
C27: =+C26-1 -> -11 | D27: Subtotal - Total Energy | E27: =+SUM(E26,E22) -> 530075.62 | G27: =+SUM(G26,G22) -> 40611.451 | I27: =+SUM(I26,I22) -> 48386.855
C28: =+C27-1 -> -12 | D28: Transfer Adjustment Revenue | G28: 1604.8782
C29: =+C28-1 -> -13 | D29: Total Adjusted Base Revenue | G29: =+SUM(G17:G18,G22,G26,G28) -> 67066.33 | I29: =+SUM(I27,I17:I18) -> 78206.855
C31: § END | D31: § | E31: § | F31: § | G31: § | H31: § | I31: END § | L31: Check vs. Revenue Forecast | O31: 0

Sheet I09S
C3: Idaho Power Company
C4: State of Idaho
C5: Calculation of Proposed Rates
C6: Filed May 30, 2025
C7: IPC-E-25-16
C9: Large General Service
C10: Schedule 9 Secondary Service - Standard (Default)
C12: Column | D12: (A) | E12: (B) | F12: (C) | G12: (D) | H12: (E) | I12: (F)
E14: Test Year | F14: Current | G14: Test Year | H14: Proposed | I14: Proposed
C15: Line | E15: Billing | F15: Base | G15: Base | H15: Effective | I15: Effective
C16: No. | D16: Description | E16: Units | F16: Rate | G16: Revenue | H16: Rate | I16: Revenue
C17: -1 | D17: Service Charge | E17: 474816.1 | F17: 25 | G17: =+F17*$E17 -> 11870402 | H17: 30 | I17: =+H17*$E17 -> 14244483 | L17: =+_xlfn.CONCAT(C9,", ",C10) -> Large General Service, Schedule 9 Secondary Service - Standard (Default)
C18: =+C17-1 -> -2 | D18: Minimum Charge | E18: 247.33333 | F18: 3 | G18: =+F18*$E18 -> 742 | H18: =F18 -> 3 | I18: =+H18*$E18 -> 742 | L18: In Adjusted Base Revenue | O18: =+I30 -> 3.3187848e+08
C19: =+C18-1 -> -3 | D19: Basic Charge | L19: Target Adjusted Base Revenue | O19: 3.3188007e+08
C20: =+C19-1 -> -4 | D20: Total Basic Charge | E20: 15582930 | F20: 1.58 | G20: =+F20*$E20 -> 24621029 | H20: 2.03 | I20: =+H20*$E20 -> 31633347 | L20: D | O20: =+O18-O19 -> -1585.6027
C21: =+C20-1 -> -5 | D21: Demand Charge
C22: =+C21-1 -> -6 | D22: Summer (Jun-Sep) | E22: 4171092.6 | F22: 8.12 | G22: =+F22*$E22 -> 33869272 | H22: 10.14 | I22: =+H22*$E22 -> 42294879 | L22: Adjusted Base Revenue Change | O22: =+O18/G30-1 -> 0.071862421
C23: =+C22-1 -> -7 | D23: Non-Summer (Oct-May) | E23: 7373577.6 | F23: 6.39 | G23: =+F23*$E23 -> 47117161 | H23: 8.16 | I23: =+H23*$E23 -> 60168393 | L23: Target Adjusted Base Revenue | O23: 0.071867521
C24: =+C23-1 -> -8 | D24: Total Demand | E24: =+SUM(E22:E23) -> 11544670 | G24: =+SUM(G22:G23) -> 80986433 | I24: =+SUM(I22:I23) -> 1.0246327e+08 | L24: Season Energy Rate Differential - Unit Cost Sheet | O24: 1.0052863
C25: =+C24-1 -> -9 | D25: Energy Charge | L25: Season Energy Rate Deffendall Current | O25: =+F26/F27 -> 1.0367406
C26: =+C25-1 -> -10 | D26: Summer (Jun-Sep) | E26: 1.2047331e+09 | F26: 0.054658 | G26: =+F26*$E26 -> 65848304 | H26: 0.054088 | I26: =+H26*$E26 -> 65161606 | L26: Season Energy Rate Differential - Proposed | O26: =O24 -> 1.0052863
C27: =+C26-1 -> -11 | D27: Non-Summer (Oct-May) | E27: 2.2001158e+09 | F27: 0.052721 | G27: =+F27*$E27 -> 1.1599231e+08 | H27: 0.053804 | I27: =+H27*$E27 -> 1.1837503e+08
C28: =+C27-1 -> -12 | D28: Subtotal - Total Energy | E28: =+SUM(E26:E27) -> 3.404849e+09 | G28: =+SUM(G26:G27) -> 1.8184061e+08 | I28: =+SUM(I26:I27) -> 1.8353664e+08
C29: =+C28-1 -> -13 | D29: Transfer Adjustment Revenue | G29: 10308657
C30: =+C29-1 -> -14 | D30: Total Adjusted Base Revenue | G30: =+SUM(G29,G28,G24,G20,G17:G18) -> 3.0962787e+08 | I30: =+SUM(I29,I28,I24,I20,I17:I18) -> 3.3187848e+08 | L30: Check vs. Revenue Forecast | O30: 0
G31: =G30-G29 -> 2.9931922e+08
C32: § END | D32: § | E32: § | F32: § | G32: § | H32: § | I32: END § | L32: Rounding Adjustment | O32: -1e-06
C34: Large General Service
C35: Schedule 9 Secondary Service - Standard (Default)
C37: Column | D37: (A) | E37: (B) | F37: (C) | G37: (D) | H37: (E) | I37: (F)
E39: Test Year | F39: Current | G39: Test Year | H39: Proposed | I39: Proposed
C40: Line | E40: Billing | F40: Base | G40: Base | H40: Effective | I40: Effective
C41: No. | D41: Description | E41: Units | F41: Rate | G41: Revenue | H41: Rate | I41: Revenue
C42: -1 | D42: Service Charge | E42: 474804.1 | F42: =F17 -> 25 | G42: =+F42*$E42 -> 11870102 | H42: =H17 -> 30 | I42: =+H42*$E42 -> 14244123
C43: =+C42-1 -> -2 | D43: Minimum Charge | E43: 247.33333 | F43: =F18 -> 3 | G43: =+F43*$E43 -> 742 | H43: =H18 -> 3 | I43: =+H43*$E43 -> 742
C44: =+C43-1 -> -3 | D44: Basic Charge
C45: =+C44-1 -> -4 | D45: Total Basic Charge | E45: 15582810 | F45: =F20 -> 1.58 | G45: =+F45*$E45 -> 24620839 | H45: =H20 -> 2.03 | I45: =+H45*$E45 -> 31633103
C46: =+C45-1 -> -5 | D46: Demand Charge | L46: =L17 -> Large General Service, Schedule 9 Secondary Service - Standard (Default)
C47: =+C46-1 -> -6 | D47: Summer (Jun-Sep) | E47: 4171056.4 | F47: =F22 -> 8.12 | G47: =+F47*$E47 -> 33868978 | H47: =H22 -> 10.14 | I47: =+H47*$E47 -> 42294511 | L47: In Adjusted Base Revenue | O47: =I55 -> 3.3187648e+08
C48: =+C47-1 -> -7 | D48: Non-Summer (Oct-May) | E48: 7373548.1 | F48: =F23 -> 6.39 | G48: =+F48*$E48 -> 47116972 | H48: =H23 -> 8.16 | I48: =+H48*$E48 -> 60168152
...

Sheet I09S_TOU
C3: Idaho Power Company
C4: State of Idaho
C5: Calculation of Proposed Rates
C6: Filed May 30, 2025
C7: IPC-E-25-16
C9: Large General Service
C10: Schedule 9 Secondary Service - Time-of-Use (Optional)
C12: Column | D12: (A) | E12: (B) | F12: (C) | G12: (D) | H12: (E) | I12: (F)
E14: Test Year | F14: Current | G14: Test Year | H14: Proposed | I14: Proposed
C15: Line | E15: Billing | F15: Base | G15: Base | H15: Effective | I15: Effective
C16: No. | D16: Description | E16: Units | F16: Rate | G16: Revenue | H16: Rate | I16: Revenue
C17: -1 | D17: Service Charge | E17: 474816.1 | F17: 25 | G17: =+F17*$E17 -> 11870402 | H17: =I09S!H17 -> 30 | I17: =+H17*$E17 -> 14244483 | L17: =+_xlfn.CONCAT(C9,", ",C10) -> Large General Service, Schedule 9 Secondary Service - Time-of-Use (Optional)
C18: =+C17-1 -> -2 | D18: Minimum Charge | E18: 247.33333 | F18: 3 | G18: =+F18*$E18 -> 742 | H18: =I09S!H18 -> 3 | I18: =+H18*$E18 -> 742 | L18: In Adjusted Base Revenue | O18: =+I37 -> 3.3187998e+08
C19: =+C18-1 -> -3 | D19: Basic Charge | L19: Target Adjusted Base Revenue | O19: =+I09S!$O$19 -> 3.3188007e+08
C20: =+C19-1 -> -4 | D20: Total Basic Charge | E20: 15582930 | F20: 1.58 | G20: =+F20*$E20 -> 24621029 | H20: =I09S!$H$20 -> 2.03 | I20: =+H20*$E20 -> 31633347 | L20: D | O20: =+O18-O19 -> -92.422435
C21: =+C20-1 -> -5 | D21: Demand Charge
C22: =+C21-1 -> -6 | D22: Summer (Jun-Sep) | E22: 4171092.6 | F22: 8.12 | G22: =+F22*$E22 -> 33869272 | H22: =I09S!H22 -> 10.14 | I22: =+H22*$E22 -> 42294879 | L22: Adjusted Base Revenue Change | O22: =+O18/G37-1 -> 0.071754743
C23: =+C22-1 -> -7 | D23: Non-Summer (Oct-May) | E23: 7373577.6 | F23: 6.39 | G23: =+F23*$E23 -> 47117161 | H23: =I09S!H23 -> 8.16 | I23: =+H23*$E23 -> 60168393 | L23: Target Adjusted Base Revenue | O23: =(O19-G37)/G37 -> 0.071755042
C24: =+C23-1 -> -8 | D24: Total Demand | E24: =+SUM(E22:E23) -> 11544670 | G24: =+SUM(G22:G23) -> 80986433 | I24: =+SUM(I22:I23) -> 1.0246327e+08 | L24: Season Cost Ratio (Unit Cost Sheet) | O24: 1.0052863
C25: =+C24-1 -> -9 | D25: Summer Energy (Jun-Sep) | L25: Season Energy Rate Differential - Current | O25: =+F29/F34 -> 1.0361868
C26: =+C25-1 -> -10 | D26: On-Peak | E26: 1.6584735e+08 | F26: 0.058489 | G26: =+F26*$E26 -> 9700245.7 | H26: 0.071725 | I26: =+H26*$E26 -> 11895401 | L26: Season Energy Rate Differential - Proposed | O26: 1.0052784
C27: =+C26-1 -> -11 | D27: Mid-Peak | E27: 2.3853827e+08 | F27: 0.058489 | G27: =+F27*$E27 -> 13951865 | H27: 0.060348 | I27: =+H27*$E27 -> 14395307
C28: =+C27-1 -> -12 | D28: Off-Peak | E28: 8.0034753e+08 | F28: 0.052709 | G28: =+F28*$E28 -> 42185518 | H28: 0.048568 | I28: =+H28*$E28 -> 38871279 | L28: TOU Differentials
C29: =+C28-1 -> -13 | D29: Subtotal - Summer Energy | E29: =SUM(E26:E28) -> 1.2047331e+09 | F29: =+G29/E29 -> 0.054649138 | G29: =+SUM(G26:G28) -> 65837628 | H29: =+I29/E29 -> 0.054088316 | I29: =+SUM(I26:I28) -> 65161987 | L29: Summer On:Mid | O29: 1.2949305
C30: =+C29-1 -> -14 | D30: Non-Summer Energy (Oct-May) | L30: Summer Off:Mid | O30: 0.69464647
C31: =+C30-1 -> -15 | D31: On-Peak | E31: 4.9156732e+08 | F31: 0.055755 | G31: =+F31*$E31 -> 27407336 | H31: 0.05956 | I31: =+H31*$E31 -> 29277750 | L31: Non-Summer On:Mid | O31: 1.1502439
C32: =+C31-1 -> -16 | D32: Mid-Peak | E32: 5.1648545e+08 | F32: 0.053259 | G32: =+F32*$E32 -> 27507498 | H32: 0.054608 | I32: =+H32*$E32 -> 28204237 | L32: Non-Summer Off:Mid | O32: 0.89302253
C33: =+C32-1 -> -17 | D33: Off-Peak | E33: 1.192063e+09 | F33: 0.051273 | G33: =+F33*$E33 -> 61120649 | H33: 0.051083 | I33: =+H33*$E33 -> 60894157
C34: =+C33-1 -> -18 | D34: Subtotal - Non-Summer Energy | E34: =SUM(E31:E33) -> 2.2001158e+09 | F34: =+G34/E34 -> 0.052740625 | G34: =+SUM(G31:G33) -> 1.1603548e+08 | H34: =+I34/E34 -> 0.053804506 | I34: =+SUM(I31:I33) -> 1.1837614e+08 | L34: Fixed and Variable Costs in Energy (Proposed)
C35: =+C34-1 -> -19 | D35: Subtotal - Total Energy | E35: =+SUM(E34,E29) -> 3.404849e+09 | G35: =+SUM(G34,G29) -> 1.8187311e+08 | I35: =+SUM(I34,I29) -> 1.8353813e+08 | L35: Variable Cost in Energy - Summer | O35: 0.032320854
C36: =+C35-1 -> -20 | D36: Transfer Adjustment Revenue | G36: =I09S!$G$29 -> 10308657 | L36: Variable Cost in Energy - Non-Summer | O36: 0.032150894
C37: =+C36-1 -> -21 | D37: Total Adjusted Base Revenue | G37: =+SUM(G36,G35,G24,G20,G17:G18) -> 3.0966037e+08 | I37: =+SUM(I36,I35,I24,I20,I17:I18) -> 3.3187998e+08 | L37: Average Energy Rate - Summer | O37: =(O19-I17-I18-I20-I24)/(SUM(E26:E28)+(SUM(E31:E33))/O26) -> 0.054088467
L38: Average Energy Rate - Non-Sumer | O38: =+O37/O26 -> 0.053804465
C39: § END | D39: § | E39: § | F39: § | G39: § | H39: § | I39: END § | L39: Fixed Cost in Energy - Summer | O39: =+O37-O35 -> 0.021767613
L40: Fixed Cost in Energy - Non-Summer | O40: =+O38-O36 -> 0.021653571
E41: Test Year | F41: Current | G41: Test Year | H41: Proposed | I41: Proposed | L41: Variable Cost in Energy - Summer On-Peak | O41: =+O42*O29 -> 0.049959501
C42: Line | E42: Billing | F42: Base | G42: Base | H42: Effective | I42: Effective | L42: Variable Cost in Energy - Summer Mid-Peak | O42: =+(O35*E29)/((E28*O30)+(E26*O29)+E27) -> 0.038580837
C43: No. | D43: Description | E43: Units | F43: Rate | G43: Revenue | H43: Rate | I43: Revenue | L43: Variable Cost in Energy - Summer Off-Peak | O43: =+O42*O30 -> 0.026800042
C44: -1 | D44: Service Charge | E44: 12 | F44: 25 | G44: =+F44*$E44 -> 300 | H44: =H17 -> 30 | I44: =+H44*$E44 -> 360 | L44: Variable Cost in Energy - Non-Summer On-Peak | O44: =+O45*O31 -> 0.037906038
C45: =+C44-1 -> -2 | D45: Minimum Charge | E45: 0 | F45: 3 | G45: =+F45*$E45 -> 0 | H45: =H18 -> 3 | I45: =+H45*$E45 -> 0 | L45: Variable Cost in Energy - Non-Summer Mid-Peak | O45: =+(O36*E34)/((E33*O32)+(E31*O31)+E32) -> 0.032954782
...

Sheet I09P
C3: Idaho Power Company
C4: State of Idaho
C5: Calculation of Proposed Rates
C6: Filed May 30, 2025
C7: IPC-E-25-16
C9: Large General Service
C10: Schedule 9 Primary Service
C12: Column | D12: (A) | E12: (B) | F12: (C) | G12: (D) | H12: (E) | I12: (F)
E14: Test Year | F14: Current | G14: Test Year | H14: Proposed | I14: Proposed
C15: Line | E15: Billing | F15: Base | G15: Base | H15: Effective | I15: Effective
C16: No. | D16: Description | E16: Units | F16: Rate | G16: Revenue | H16: Rate | I16: Revenue
C17: -1 | D17: Service Charge | E17: 3500.8 | F17: 340 | G17: =+F17*$E17 -> 1190272 | H17: 360 | I17: =+H17*$E17 -> 1260288 | L17: =+_xlfn.CONCAT(C9,", ",C10) -> Large General Service, Schedule 9 Primary Service
C18: =+C17-1 -> -2 | D18: Minimum Charge | E18: 2 | F18: 50 | G18: =+F18*$E18 -> 100 | H18: =F18 -> 50 | I18: =+H18*$E18 -> 100 | L18: In Adjusted Base Revenue | O18: =+I38 -> 55940398
C19: =+C18-1 -> -3 | D19: Basic Charge | L19: Target Adjusted Base Revenue | O19: =+G38*(1+O23) -> 55940414
C20: =+C19-1 -> -4 | D20: Total Basic Charge | E20: 2079364.1 | F20: 1.83 | G20: =+F20*$E20 -> 3805236.3 | H20: 2.22 | I20: =+H20*$E20 -> 4616188.3 | L20: D | O20: =+O18-O19 -> -16.330604
C21: =+C20-1 -> -5 | D21: Demand Charge
C22: =+C21-1 -> -6 | D22: Summer (Jun-Sep) | E22: 476215.77 | F22: 8.35 | G22: =+F22*$E22 -> 3976401.6 | H22: 11.04 | I22: =+H22*$E22 -> 5257422 | L22: Adjusted Base Revenue Change | O22: =+O18/G38-1 -> 0.068770682
C23: =+C22-1 -> -7 | D23: Non-Summer (Oct-May) | E23: 1198405.9 | F23: 7.91 | G23: =+F23*$E23 -> 9479390.5 | H23: 9.91 | I23: =+H23*$E23 -> 11876202 | L23: Target Adjusted Base Revenue | O23: 0.068770994
C24: =+C23-1 -> -8 | D24: Total Demand | E24: =+SUM(E22:E23) -> 1674621.6 | G24: =+SUM(G22:G23) -> 13455792 | I24: =+SUM(I22:I23) -> 17133624 | L24: Season Cost Ratio (Unit Cost Sheet) | O24: =O35/O36 -> 1.0159829
C25: =+C24-1 -> -9 | D25: On-Peak Summer Demand (Jun-Sep) | E25: 468865.9 | F25: 1.59 | G25: =+F25*$E25 -> 745496.77 | H25: 2.1 | I25: =+H25*$E25 -> 984618.38 | L25: Season Energy Rate Differential - Current | O25: =+F30/F35 -> 1.0890128
C26: =+C25-1 -> -10 | D26: Summer Energy (Jun-Sep) | L26: Season Energy Rate Differential - Proposed | O26: =O24 -> 1.0159829
C27: =+C26-1 -> -11 | D27: On-Peak | E27: 32775131 | F27: 0.053937 | G27: =+F27*$E27 -> 1767792.3 | H27: 0.06671 | I27: =+H27*$E27 -> 2186429
C28: =+C27-1 -> -12 | D28: Mid-Peak | E28: 46014976 | F28: 0.053937 | G28: =+F28*$E28 -> 2481909.8 | H28: 0.055532 | I28: =+H28*$E28 -> 2555303.7 | L28: TOU Differentials
C29: =+C28-1 -> -13 | D29: Off-Peak | E29: 1.6180509e+08 | F29: 0.048346 | G29: =+F29*$E29 -> 7822628.9 | H29: 0.043957 | I29: =+H29*$E29 -> 7112466.3 | L29: Summer On:Mid | O29: 1.2949305
C30: =+C29-1 -> -14 | D30: Subtotal - Summer Energy | E30: =+SUM(E27:E29) -> 2.405952e+08 | F30: =+G30/$E30 -> 0.050176941 | G30: =+SUM(G27:G29) -> 12072331 | H30: =+I30/$E30 -> 0.049270306 | I30: =+SUM(I27:I29) -> 11854199 | L30: Summer Off:Mid | O30: 0.69464647
C31: =+C30-1 -> -15 | D31: Non-Summer Energy (Oct-May) | L31: Non-Summer On:Mid | O31: 1.1502439
C32: =+C31-1 -> -16 | D32: On-Peak | E32: 93275039 | F32: 0.048995 | G32: =+F32*$E32 -> 4570010.5 | H32: 0.054064 | I32: =+H32*$E32 -> 5042821.7 | L32: Non-Summer Off:Mid | O32: 0.89302253
C33: =+C32-1 -> -17 | D33: Mid-Peak | E33: 96201361 | F33: 0.046579 | G33: =+F33*$E33 -> 4480963.2 | H33: 0.049269 | I33: =+H33*$E33 -> 4739744.9
C34: =+C33-1 -> -18 | D34: Off-Peak | E34: 2.2481819e+08 | F34: 0.044649 | G34: =+F34*$E34 -> 10037908 | H34: 0.045854 | I34: =+H34*$E34 -> 10308813 | L34: Fixed and Variable Costs in Energy (Proposed)
C35: =+C34-1 -> -19 | D35: Subtotal - Non-Summer Energy | E35: =+SUM(E32:E34) -> 4.1429459e+08 | F35: =+G35/$E35 -> 0.046075622 | G35: =+SUM(G32:G34) -> 19088881 | H35: =+I35/$E35 -> 0.048495395 | I35: =+SUM(I32:I34) -> 20091380 | L35: Variable Cost in Energy - Summer | O35: 0.031644921
C36: =+C35-1 -> -20 | D36: Subtotal - Total Energy | E36: =+SUM(E35,E30) -> 6.5488979e+08 | G36: =+SUM(G35,G30) -> 31161212 | I36: =+SUM(I35,I30) -> 31945579 | L36: Variable Cost in Energy - Non-Summer | O36: 0.031147101
C37: =+C36-1 -> -21 | D37: Transfer Adjustment Revenue | G37: 1982770.6 | L37: Average Energy Rate - Summer | O37: =(O19-I17-I18-I20-I24-I25)/(SUM(E27:E29)+(SUM(E32:E34))/O26) -> 0.049270447
C38: =+C37-1 -> -22 | D38: Total Adjusted Base Revenue | G38: =+SUM(G37,G36,G24:G25,G20,G17:G18) -> 52340880 | I38: =+SUM(I37,I36,I24:I25,I20,I17:I18) -> 55940398 | L38: Average Energy Rate - Non-Sumer | O38: =+O37/O26 -> 0.048495353
L39: Fixed Cost in Energy - Summer | O39: =+O37-O35 -> 0.017625527
C40: § END | D40: § | E40: § | F40: § | G40: § | H40: § | I40: END § | L40: Fixed Cost in Energy - Non-Summer | O40: =+O38-O36 -> 0.017348252
L41: Variable Cost in Energy - Summer On-Peak | O41: =+O42*$O$29 -> 0.049085961
L42: Variable Cost in Energy - Summer Mid-Peak | O42: =+($O$35*$E$30)/(($E$29*$O$30)+($E$27*$O$29)+$E$28) -> 0.037906253
L43: Variable Cost in Energy - Summer Off-Peak | O43: =+O42*$O$30 -> 0.026331445
L44: Variable Cost in Energy - Non-Summer On-Peak | O44: =+O45*$O$31 -> 0.03671623
L45: Variable Cost in Energy - Non-Summer Mid-Peak | O45: =+(O36*$E$35)/(($E$34*$O$32)+($E$32*$O$31)+$E$33) -> 0.031920387
...

Sheet I09T
C3: Idaho Power Company
C4: State of Idaho
C5: Calculation of Proposed Rates
C6: Filed May 30, 2025
C7: IPC-E-25-16
C9: Large General Service
C10: Schedule 9 Transmission Service
C12: Column | D12: (A) | E12: (B) | F12: (C) | G12: (D) | H12: (E) | I12: (F)
E14: Test Year | F14: Current | G14: Test Year | H14: Proposed | I14: Proposed
C15: Line | E15: Billing | F15: Base | G15: Base | H15: Effective | I15: Effective
C16: No. | D16: Description | E16: Units | F16: Rate | G16: Revenue | H16: Rate | I16: Revenue
C17: -1 | D17: Service Charge | E17: 68 | F17: 340 | G17: =+F17*$E17 -> 23120 | H17: 360 | I17: =+H17*$E17 -> 24480 | L17: =+_xlfn.CONCAT(C9,", ",C10) -> Large General Service, Schedule 9 Transmission Service
C18: =+C17-1 -> -2 | D18: Minimum Charge | E18: 0 | F18: 50 | G18: =+F18*$E18 -> 0 | H18: =F18 -> 50 | I18: =+H18*$E18 -> 0 | L18: In Adjusted Base Revenue | O18: =+I38 -> 348351.63
C19: =+C18-1 -> -3 | D19: Basic Charge | L19: Target Adjusted Base Revenue | O19: =+G38*(1+O23) -> 348351.86
C20: =+C19-1 -> -4 | D20: Total Basic Charge | E20: 18439.371 | F20: 1.09 | G20: =+F20*$E20 -> 20098.914 | H20: 0.96 | I20: =+H20*$E20 -> 17701.796 | L20: D | O20: =+O18-O19 -> -0.22902219
C21: =+C20-1 -> -5 | D21: Demand Charge
C22: =+C21-1 -> -6 | D22: Summer (Jun-Sep) | E22: 5574.7395 | F22: 7.38 | G22: =+F22*$E22 -> 41141.578 | H22: 8.63 | I22: =+H22*$E22 -> 48110.002 | L22: Adjusted Base Revenue Change | O22: =+O18/G38-1 -> 0.068770292
C23: =+C22-1 -> -7 | D23: Non-Summer (Oct-May) | E23: 8872.8411 | F23: 6.46 | G23: =+F23*$E23 -> 57318.553 | H23: 8.44 | I23: =+H23*$E23 -> 74886.779 | L23: Target Adjusted Base Revenue | O23: 0.068770994
C24: =+C23-1 -> -8 | D24: Total Demand | E24: =+SUM(E22:E23) -> 14447.581 | G24: =+SUM(G22:G23) -> 98460.131 | I24: =+SUM(I22:I23) -> 122996.78 | L24: Season Cost Ratio (Unit Cost Sheet) | O24: =O35/O36 -> 1.0159829
C25: =+C24-1 -> -9 | D25: On-Peak Summer Demand (Jun-Sep) | E25: 3731.2005 | F25: 1.59 | G25: =+F25*$E25 -> 5932.6088 | H25: 2.1 | I25: =+H25*$E25 -> 7835.5211 | L25: Season Energy Rate Differential - Current | O25: =+F30/F35 -> 1.0882681
C26: =+C25-1 -> -10 | D26: Summer Energy (Jun-Sep) | L26: Season Energy Rate Differential - Proposed | O26: =I09P!O26 -> 1.0159829
C27: =+C26-1 -> -11 | D27: On-Peak | E27: 135602.87 | F27: 0.053305 | G27: =+F27*$E27 -> 7228.3111 | H27: 0.06846 | I27: =+H27*$E27 -> 9283.3726
C28: =+C27-1 -> -12 | D28: Mid-Peak | E28: 213681.4 | F28: 0.053305 | G28: =+F28*$E28 -> 11390.287 | H28: 0.056891 | I28: =+H28*$E28 -> 12156.549 | L28: TOU Differentials
C29: =+C28-1 -> -13 | D29: Off-Peak | E29: 958525.73 | F29: 0.047648 | G29: =+F29*$E29 -> 45671.834 | H29: 0.044914 | I29: =+H29*$E29 -> 43051.224 | L29: Summer On:Mid | O29: 1.2949305
C30: =+C29-1 -> -14 | D30: Subtotal - Summer Energy | E30: =+SUM(E27:E29) -> 1307810 | F30: =+G30/$E30 -> 0.049158847 | G30: =+SUM(G27:G29) -> 64290.432 | H30: =+I30/$E30 -> 0.04931232 | I30: =+SUM(I27:I29) -> 64491.146 | L30: Summer Off:Mid | O30: 0.69464647
C31: =+C30-1 -> -15 | D31: Non-Summer Energy (Oct-May) | L31: Non-Summer On:Mid | O31: 1.1502439
C32: =+C31-1 -> -16 | D32: On-Peak | E32: 510119.67 | F32: 0.048079 | G32: =+F32*$E32 -> 24526.043 | H32: 0.054073 | I32: =+H32*$E32 -> 27583.701 | L32: Non-Summer Off:Mid | O32: 0.89302253
C33: =+C32-1 -> -17 | D33: Mid-Peak | E33: 558665.93 | F33: 0.045663 | G33: =+F33*$E33 -> 25510.362 | H33: 0.049282 | I33: =+H33*$E33 -> 27532.174
C34: =+C33-1 -> -18 | D34: Off-Peak | E34: 1214966.4 | F34: 0.043725 | G34: =+F34*$E34 -> 53124.406 | H34: 0.04587 | I34: =+H34*$E34 -> 55730.509 | L34: Fixed and Variable Costs in Energy (Proposed)
C35: =+C34-1 -> -19 | D35: Subtotal - Non-Summer Energy | E35: =+SUM(E32:E34) -> 2283752 | F35: =+G35/$E35 -> 0.045171635 | G35: =+SUM(G32:G34) -> 103160.81 | H35: =+I35/$E35 -> 0.048536962 | I35: =+SUM(I32:I34) -> 110846.38 | L35: Variable Cost in Energy - Summer | O35: 0.031644921
C36: =+C35-1 -> -20 | D36: Subtotal - Total Energy | E36: =+SUM(E35,E30) -> 3591562 | G36: =+SUM(G35,G30) -> 167451.24 | I36: =+SUM(I35,I30) -> 175337.53 | L36: Variable Cost in Energy - Non-Summer | O36: 0.031147101
C37: =+C36-1 -> -21 | D37: Transfer Adjustment Revenue | G37: 10873.957 | L37: Average Energy Rate - Summer | O37: =(O19-I17-I18-I20-I24-I25)/(SUM(E27:E29)+(SUM(E32:E34))/O26) -> 0.049312638
C38: =+C37-1 -> -22 | D38: Total Adjusted Base Revenue | G38: =+SUM(G37,G36,G24:G25,G20,G17:G18) -> 325936.85 | I38: =+SUM(I37,I36,I24:I25,I20,I17:I18) -> 348351.63 | L38: Average Energy Rate - Non-Sumer | O38: =+O37/O26 -> 0.04853688
L39: Fixed Cost in Energy - Summer | O39: =+O37-O35 -> 0.017667718
C40: § END | D40: § | E40: § | F40: § | G40: § | H40: § | I40: END § | L40: Fixed Cost in Energy - Non-Summer | O40: =+O38-O36 -> 0.017389779
L41: Variable Cost in Energy - Summer On-Peak | O41: =+O42*O29 -> 0.050792038
L42: Variable Cost in Energy - Summer Mid-Peak | O42: =+(O35*E30)/((E29*O30)+(E27*O29)+E28) -> 0.039223758
L43: Variable Cost in Energy - Summer Off-Peak | O43: =+O42*O30 -> 0.027246645
L44: Variable Cost in Energy - Non-Summer On-Peak | O44: =+O45*O31 -> 0.036683418
L45: Variable Cost in Energy - Non-Summer Mid-Peak | O45: =+(O36*E35)/((E34*O32)+(E32*O31)+E33) -> 0.03189186
...

Sheet I19S
C3: Idaho Power Company
C4: State of Idaho
C5: Calculation of Proposed Rates
C6: Filed May 30, 2025
C7: IPC-E-25-16
C9: Large Power Service
C10: Schedule 19 Secondary Service
C12: Column | D12: (A) | E12: (B) | F12: (C) | G12: (D) | H12: (E) | I12: (F)
E14: Test Year | F14: Current | G14: Test Year | H14: Proposed | I14: Proposed
C15: Line | E15: Billing | F15: Base | G15: Base | H15: Effective | I15: Effective
C16: No. | D16: Description | E16: Units | F16: Rate | G16: Revenue | H16: Rate | I16: Revenue
C17: -1 | D17: Service Charge | E17: 12 | F17: 85 | G17: =+F17*$E17 -> 1020 | H17: 125 | I17: =+H17*$E17 -> 1500 | L17: =+_xlfn.CONCAT(C9,", ",C10) -> Large Power Service, Schedule 19 Secondary Service
C18: =+C17-1 -> -2 | D18: Minimum Charge | E18: 0 | F18: 3 | G18: =+F18*$E18 -> 0 | H18: =F18 -> 3 | I18: =+H18*$E18 -> 0 | L18: In Adjusted Base Revenue | O18: =+I38 -> 563763.59
C19: =+C18-1 -> -3 | D19: Basic Charge | L19: Target Adjusted Base Revenue | O19: =+G38*(1+O23) -> 563764.94
C20: =+C19-1 -> -4 | D20: Total Basic Charge | E20: 14299.899 | F20: 2.01 | G20: =+F20*$E20 -> 28742.796 | H20: 2.47 | I20: =+H20*$E20 -> 35320.75 | L20: D | O20: =+O18-O19 -> -1.3527175
C21: =+C20-1 -> -5 | D21: Demand Charge
C22: =+C21-1 -> -6 | D22: Summer (Jun-Sep) | E22: 4155.1062 | F22: 10.5 | G22: =+F22*$E22 -> 43628.615 | H22: 13.99 | I22: =+H22*$E22 -> 58129.936 | L22: Adjusted Base Revenue Change | O22: =+O18/G38-1 -> 0.099739734
C23: =+C22-1 -> -7 | D23: Non-Summer (Oct-May) | E23: 8539.9845 | F23: 8.45 | G23: =+F23*$E23 -> 72162.869 | H23: 12.01 | I23: =+H23*$E23 -> 102565.21 | L23: Target Adjusted Base Revenue | O23: 0.099742373
C24: =+C23-1 -> -8 | D24: Total Demand | E24: =+SUM(E22:E23) -> 12695.091 | G24: =+SUM(G22:G23) -> 115791.48 | I24: =+SUM(I22:I23) -> 160695.15 | L24: Season Cost Ratio (Unit Cost Sheet) | O24: =O35/O36 -> 1.0147796
C25: =+C24-1 -> -9 | D25: On-Peak Summer Demand (Jun-Sep) | E25: 3810.7497 | F25: 1.82 | G25: =+F25*$E25 -> 6935.5645 | H25: 2.42 | I25: =+H25*$E25 -> 9222.0144 | L25: Season Energy Rate Differential - Current | O25: =+F30/F35 -> 1.0960503
C26: =+C25-1 -> -10 | D26: Summer Energy (Jun-Sep) | L26: Season Energy Rate Differential - Proposed | O26: =O24 -> 1.0147796
C27: =+C26-1 -> -11 | D27: On-Peak | E27: 306402 | F27: 0.059941 | G27: =+F27*$E27 -> 18366.042 | H27: 0.0733 | I27: =+H27*$E27 -> 22459.267
C28: =+C27-1 -> -12 | D28: Mid-Peak | E28: 387352 | F28: 0.059941 | G28: =+F28*$E28 -> 23218.266 | H28: 0.062088 | I28: =+H28*$E28 -> 24049.911 | L28: TOU Differentials
C29: =+C28-1 -> -13 | D29: Off-Peak | E29: 1413300 | F29: 0.054287 | G29: =+F29*$E29 -> 76723.817 | H29: 0.050473 | I29: =+H29*$E29 -> 71333.491 | L29: Summer On:Mid | O29: 1.2949305
