Workbook
Name IQ_CH: 110000
Name IQ_CQ: 5000
Name IQ_CY: 10000
Name IQ_DAILY: 500000
Name IQ_FH: 100000
Name IQ_FQ: 500
Name IQ_FY: 1000
Name IQ_LTM: 2000
Name IQ_MONTH: 15000
Name IQ_NTM: 6000
Name IQ_WEEK: 50000
Name IQ_YTD: 3000

Sheet Ann Adj Summary
A3: Summary of Adjustments to 2025
A4: Operating Expenses
L5: (1)
A7: Line | C7: Source
A8: No. | C8: Page | L8: Amount
A12: 1 | C12: A | E12: Operating Payroll - Annualizing Adjustment | L12: ='Payroll-Source Page A'!L16 -> 1724869.4
A16: 2 | C16: A | E16: 2025 Salary Structure Adjustment | L16: ='Payroll-Source Page A'!L23 -> 6286440.7
A20: 3 | F20: Total Adjustments | L20: =SUM(L12:L16) -> 8011310.2

Sheet Payroll-Source Page A
A1: Idaho Power Company | M1: A
A2: Detail of Adjustments to 2024
A3: Operating Expenses
L4: (1)
A5: Line | C5: Source
A6: No. | C6: Page | L6: Amount
E7: Operating Payroll (Various accts)
A9: 1 | C9: 1 | F9: Actual Total Year 2024 ST Payroll | L9: ='2024 Actual Payroll-SourcePg1'!F18 -> 2.5453216e+08
A10: =A9+1 -> 2 | C10: 1 | F10: Actual December 2024 ST Payroll | K10: ='2024 Actual Payroll-SourcePg1'!F17 -> 19763230
A11: =A10+1 -> 3 | F11: Annualized December 2024 (Dec times 13) | K11: x 13 | L11: =K10*13 -> 2.5692199e+08
A12: =A11+1 -> 4 | F12: Increase Over 2024 Actual | L12: =L11-L9 -> 2389820.9
A13: =A12+1 -> 5 | C13: 1 | F13: O&M Percentage | L13: ='2024 Actual Payroll-SourcePg1'!B20 -> 0.48237975
A14: =A13+1 -> 6 | F14: Annualized December 2025 O&M ST payroll | L14: =L12*L13 -> 1152801.2
A15: =A14+1 -> 7 | C15: 2 | F15: Benefit Loading Percent | L15: ='Payroll Tax-Source Pg2'!C9 -> 0.49624185
A16: =A15+1 -> 8 | F16: Annualized December 2025 O&M ST w/Loading | L16: =L14*(1+L15) -> 1724869.4
E18: 2025 Operating Payroll SSA (Various accts)
A19: =A16+1 -> 9 | C19: A | F19: 2025 O&M Labor FCST | L19: 2.0782316e+08
A20: =A19+1 -> 10 | F20: Annualized December 2024 O&M ST w/Loading | L20: =L16 -> 1724869.4
A21: =A20+1 -> 11 | F21: Total 2025 O&M Labor | L21: =L19+L20 -> 2.0954802e+08
A22: =A21+1 -> 12 | F22: December 2025 Structured Salary Adjustment | K22: 0.03 | L22: =L21*K22 -> 6286440.7
A23: =A22+1 -> 13 | F23: Adjustment to Operating Expense for SSA | L23: =L22 -> 6286440.7

Sheet 2024 Actual Payroll-SourcePg1
A1: 2024 ACTUAL for 111 - STRAIGHT TIME PAYROLL | G1: Source Page 1
A2: By Account and Month
B5: 1 - O&M Adjusted | C5: 2 - Construction | D5: 3 - Other | E5: 242 Accounts | F5: Total | G5: Bridger Labor | H5: 1 - O&M Total
A6: Jan,24 | B6: =H6-G6 -> 8074330.1 | C6: 4820342.7 | D6: 830512.48 | E6: 5692692.3 | F6: =SUM(B6:E6) -> 19417878 | G6: 12912.7 | H6: 8087242.8
A7: Feb,24 | B7: =H7-G7 -> 10263442 | C7: 6502281.7 | D7: 1077699.2 | E7: 1657921.3 | F7: =SUM(B7:E7) -> 19501344 | G7: 16167.06 | H7: 10279609
A8: Mar,24 | B8: =H8-G8 -> 14412208 | C8: 9122702.2 | D8: 1521603.9 | E8: 4113753.5 | F8: =SUM(B8:E8) -> 29170267 | G8: 26668.88 | H8: 14438876
A9: Apr,24 | B9: =H9-G9 -> 9983455.1 | C9: 6509860.6 | D9: 1072551.9 | E9: 1907628.3 | F9: =SUM(B9:E9) -> 19473496 | G9: 16971.2 | H9: 10000426
A10: May,24 | B10: =H10-G10 -> 9881790.6 | C10: 6364899 | D10: 1062566.3 | E10: 2242196.1 | F10: =SUM(B10:E10) -> 19551452 | G10: 16006.97 | H10: 9897797.5
A11: Jun,24 | B11: =H11-G11 -> 9033398.9 | C11: 5988944 | D11: 1055490.1 | E11: 3583277.4 | F11: =SUM(B11:E11) -> 19661110 | G11: 12159.17 | H11: 9045558.1
A12: Jul,24 | B12: =H12-G12 -> 8782989.9 | C12: 5801619.4 | D12: 969943.84 | E12: 4118588.9 | F12: =SUM(B12:E12) -> 19673142 | G12: 12285.42 | H12: 8795275.3
A13: Aug,24 | B13: =H13-G13 -> 14437139 | C13: 9398699.4 | D13: 1576259.1 | E13: 4025390 | F13: =SUM(B13:E13) -> 29437488 | G13: 20043.9 | H13: 14457183
A14: Sep,24 | B14: =H14-G14 -> 9245619.1 | C14: 6151091.2 | D14: 1008242 | E14: 3212005.4 | F14: =SUM(B14:E14) -> 19616958 | G14: 12397.91 | H14: 9258017
A15: Oct,24 | B15: =H15-G15 -> 9635338.3 | C15: 6480360.9 | D15: 1104559.1 | E15: 2353802.3 | F15: =SUM(B15:E15) -> 19574060 | G15: 13375.81 | H15: 9648714.1
A16: Nov,24 | B16: =H16-G16 -> 9728647.2 | C16: 6701081 | D16: 1070367.1 | E16: 2191645 | F16: =SUM(B16:E16) -> 19691740 | G16: 11313.15 | H16: 9739960.3
A17: Dec,24 | B17: =H17-G17 -> 9302804 | C17: 5626942.4 | D17: 1030029.6 | E17: 3803453.8 | F17: =SUM(B17:E17) -> 19763230 | G17: 12866.7 | H17: 9315670.7
B18: =SUM(B6:B17) -> 1.2278116e+08 | C18: =SUM(C6:C17) -> 79468825 | D18: =SUM(D6:D17) -> 13379825 | E18: =SUM(E6:E17) -> 38902354 | F18: =SUM(F6:F17) -> 2.5453216e+08 | G18: =SUM(G6:G17) -> 183168.87 | H18: =SUM(H6:H17) -> 1.2296433e+08
A20: % of Total | B20: =B18/$F$18 -> 0.48237975 | C20: =C18/$F$18 -> 0.31221525 | D20: =D18/$F$18 -> 0.052566341 | E20: =E18/$F$18 -> 0.15283866 | F20: =F18/$F$18 -> 1
E23: Annualized December ( x 13) | F23: =F17*13 -> 2.5692199e+08
E25: Annualized Payroll Growth Factor | F25: =F23/F18-1 -> 0.0093890725

Sheet Payroll Tax-Source Pg2
A1: 2025 Actual Benefits Loading % | F1: Source Page 2
B4: FEB YTD 2025
A5: 111 - STRAIGHT TIME PAYROLL | B5: 23083119
A7: 131 - INDIRECT BENEFIT LOADING | B7: 8816374.7 | C7: =B7/B$5 -> 0.38194036
A8: 140 - TAXES-EMPLOYER PAID | B8: 2638434.7 | C8: =B8/B$5 -> 0.11430148
A9: Subtotal loading | B9: =SUM(B7:B8) -> 11454809 | C9: =B9/B$5 -> 0.49624185
