Workbook
Name capitalization: #REF!
Name CapStructure: #REF!
Name clean_spreads: #REF!
Name CommercialExAIGMetrics: #REF!
Name Copy1: #REF!
Name Count_of_Authorized_Return_on_Equity: #REF!
Name csDesignMode: 1
Name DATA: #N/A
Name Data_Elec: #REF!
Name FTY: #REF!
Name Header: #REF!
Name IQ_CH: 110000
Name IQ_CQ: 5000
Name IQ_CY: 10000
Name IQ_DAILY: 500000
Name IQ_FH: 100000
Name IQ_FQ: 500
Name IQ_FY: 1000
Name IQ_LTM: 2000
Name IQ_MONTH: 15000
Name IQ_NTM: 6000
Name IQ_WEEK: 50000
Name IQ_YTD: 3000
Name NAME: #N/A
Name NvsElapsedTime: 0.00201388888672227
Name NvsEndTime: 39911.5546527778
Name page2: #REF!
Name page3: #REF!
Name page5: #REF!
Name page6: #REF!
Name Parent: #REF!
Name Paste1: #REF!
Name riskmeasures: #REF!
Name RRA_Adj_Clause_Table: #REF!
Name STAFFCOSTOFDEBT: #REF!
Name STAFFPERCENTDEBT: #REF!
Name STAFFPERCENTEQUITY: #REF!
Name STAFFPERCENTPREFERREDEQUITY: #REF!
Name staterate1: #REF!
Name stockprice: '[1]Stock Price (Utility)'!$C$2:$AL$34
Name TableName: "Dummy"
Name TAXonREVREQ: #REF!
Name vldatabase: '[1]Electric Utility Data'!$B$8:$AI$43
Name workingcap1: #REF!
Name Yield: #REF!

Sheet 13 (1)
A1: ='[1]Exhibit List'!C15 -> DCF MODEL - NON-UTILITY GROUP | J1: ='[1]Exhibit List'!B15 -> Exhibit 13
J2: Page 1 of 3
A3: ='[1]Exhibit List'!D15 -> DIVIDEND YIELD
E4: (a) | G4: (b)
B6: Company | C6: Industry Group | E6: Price | G6: Dividends | I6: Yield
A7: =A6+1 -> 1 | B7: Abbott Labs. | C7: Med Supp Non-Invasive | E7: ='[1]Stock Price (Non-Utility)'!C34 -> 129.60033 | G7: 2.36 | I7: =G7/E7 -> 0.01820983 | L7: ABT
A8: =A7+1 -> 2 | B8: AbbVie Inc. | C8: Drug | E8: ='[1]Stock Price (Non-Utility)'!D34 -> 202.41067 | G8: 6.56 | I8: =G8/E8 -> 0.032409359 | L8: ABBV
A9: =A8+1 -> 3 | B9: Air Products & Chem. | C9: Chemical (Diversified) | E9: ='[1]Stock Price (Non-Utility)'!E34 -> 289.07733 | G9: 7.08 | I9: =G9/E9 -> 0.024491716 | L9: APD
A10: =A9+1 -> 4 | B10: Alphabet Inc. | C10: Internet | E10: ='[1]Stock Price (Non-Utility)'!F34 -> 163.23267 | G10: 0.86 | I10: =G10/E10 -> 0.0052685533 | L10: GOOG
A11: =A10+1 -> 5 | B11: Amdocs Ltd. | C11: IT Services | E11: ='[1]Stock Price (Non-Utility)'!G34 -> 87.889667 | G11: 1.92 | I11: =G11/E11 -> 0.021845572 | L11: DOX
A12: =A11+1 -> 6 | B12: Amgen | C12: Biotechnology | E12: ='[1]Stock Price (Non-Utility)'!H34 -> 307.654 | G12: 9.52 | I12: =G12/E12 -> 0.030943853 | L12: AMGN
A13: =A12+1 -> 7 | B13: Apple Inc. | C13: Computers/Peripherals | E13: ='[1]Stock Price (Non-Utility)'!I34 -> 214.04 | G13: 1 | I13: =G13/E13 -> 0.0046720239 | L13: AAPL
A14: =A13+1 -> 8 | B14: AptarGroup | C14: Packaging & Container | E14: ='[1]Stock Price (Non-Utility)'!J34 -> 146.166 | G14: 1.85 | I14: =G14/E14 -> 0.012656842 | L14: ATR
A15: =A14+1 -> 9 | B15: Becton, Dickinson | C15: Med Supp Invasive | E15: ='[1]Stock Price (Non-Utility)'!K34 -> 221.86167 | G15: 4.18 | I15: =G15/E15 -> 0.018840569 | L15: BDX
A16: =A15+1 -> 10 | B16: Bristol-Myers Squibb | C16: Drug | E16: ='[1]Stock Price (Non-Utility)'!L34 -> 58.395 | G16: 2.48 | I16: =G16/E16 -> 0.04246939 | L16: BMY
A17: =A16+1 -> 11 | B17: Brown-Forman 'B' | C17: Beverage | E17: ='[1]Stock Price (Non-Utility)'!M34 -> 34.428667 | G17: 1 | I17: =G17/E17 -> 0.029045563 | L17: BF/B
A18: =A17+1 -> 12 | B18: Church & Dwight | C18: Household Products | E18: ='[1]Stock Price (Non-Utility)'!N34 -> 107.925 | G18: 1.14 | I18: =G18/E18 -> 0.010562891 | L18: CHD
A19: =A18+1 -> 13 | B19: Cisco Systems | C19: Telecom. Equipment | E19: ='[1]Stock Price (Non-Utility)'!O34 -> 60.047333 | G19: 1.64 | I19: =G19/E19 -> 0.027311787 | L19: CSCO
A20: =A19+1 -> 14 | B20: CME Group | C20: Brokers & Exchanges | E20: ='[1]Stock Price (Non-Utility)'!P34 -> 260.276 | G20: 4.6 | I20: =G20/E20 -> 0.017673547 | L20: CME
A21: =A20+1 -> 15 | B21: Coca-Cola | C21: Beverage | E21: ='[1]Stock Price (Non-Utility)'!Q34 -> 70.291 | G21: 2.04 | I21: =G21/E21 -> 0.029022208 | L21: KO
A22: =A21+1 -> 16 | B22: Colgate-Palmolive | C22: Household Products | E22: ='[1]Stock Price (Non-Utility)'!R34 -> 92.098667 | G22: 2 | I22: =G22/E22 -> 0.021715841 | L22: CL
A23: =A22+1 -> 17 | B23: Comcast Corp. | C23: Cable TV | E23: ='[1]Stock Price (Non-Utility)'!S34 -> 35.689 | G23: 1.24 | I23: =G23/E23 -> 0.034744599 | L23: CMCSA
A24: =A23+1 -> 18 | B24: Costco Wholesale | C24: Retail Store | E24: ='[1]Stock Price (Non-Utility)'!T34 -> 942.59433 | G24: 4.92 | I24: =G24/E24 -> 0.0052196367 | L24: COST
A25: =A24+1 -> 19 | B25: Danaher Corp. | C25: Med Supp Non-Invasive | E25: ='[1]Stock Price (Non-Utility)'!U34 -> 202.75433 | G25: 1.17 | I25: =G25/E25 -> 0.0057705302 | L25: DHR
A26: =A25+1 -> 20 | B26: Electronic Arts | C26: Entertainment Tech | E26: ='[1]Stock Price (Non-Utility)'!V34 -> 140.61467 | G26: 0.76 | I26: =G26/E26 -> 0.0054048416 | L26: EA
A27: =A26+1 -> 21 | B27: Gallagher (Arthur J.) | C27: Financial Svcs. (Div.) | E27: ='[1]Stock Price (Non-Utility)'!W34 -> 331.78533 | G27: 2.5 | I27: =G27/E27 -> 0.0075349925 | L27: AJG
A28: =A27+1 -> 22 | B28: Gilead Sciences | C28: Drug | E28: ='[1]Stock Price (Non-Utility)'!X34 -> 110.14 | G28: 3.16 | I28: =G28/E28 -> 0.028690757 | L28: GILD
A29: =A28+1 -> 23 | B29: Hershey Co. | C29: Food Processing | E29: ='[1]Stock Price (Non-Utility)'!Y34 -> 169.94 | G29: 5.63 | I29: =G29/E29 -> 0.03312934 | L29: HSY
A30: =A29+1 -> 24 | B30: Home Depot | C30: Retail Building Supply | E30: ='[1]Stock Price (Non-Utility)'!Z34 -> 360.45833 | G30: 9.2 | I30: =G30/E30 -> 0.025523061 | L30: HD
A31: =A30+1 -> 25 | B31: Hormel Foods | C31: Food Processing | E31: ='[1]Stock Price (Non-Utility)'!AA34 -> 29.887333 | G31: 1.16 | I31: =G31/E31 -> 0.038812429 | L31: HRL
A32: =A31+1 -> 26 | B32: IDEX Corp. | C32: Machinery | E32: ='[1]Stock Price (Non-Utility)'!AB34 -> 179.40133 | G32: 2.76 | I32: =G32/E32 -> 0.015384501 | L32: IEX
A33: =A32+1 -> 27 | B33: Int'l Business Mach. | C33: Computer Software | E33: ='[1]Stock Price (Non-Utility)'!AC34 -> 244.96267 | G33: 6.72 | I33: =G33/E33 -> 0.027432752 | L33: IBM
A34: =A33+1 -> 28 | B34: Johnson & Johnson | C34: Drug | E34: ='[1]Stock Price (Non-Utility)'!AD34 -> 160.29167 | G34: 5.2 | I34: =G34/E34 -> 0.032440863 | L34: JNJ
A35: =A34+1 -> 29 | B35: Kimberly-Clark | C35: Household Products | E35: ='[1]Stock Price (Non-Utility)'!AE34 -> 140.26 | G35: 5.04 | I35: =G35/E35 -> 0.035933267 | L35: KMB
A36: =A35+1 -> 30 | B36: Lilly (Eli) | C36: Drug | E36: ='[1]Stock Price (Non-Utility)'!AF34 -> 815.15167 | G36: 6 | I36: =G36/E36 -> 0.0073605934 | L36: LLY
A37: =A36+1 -> 31 | B37: Lockheed Martin | C37: Aerospace/Defense | E37: ='[1]Stock Price (Non-Utility)'!AG34 -> 456.44733 | G37: 13.2 | I37: =G37/E37 -> 0.028918999 | L37: LMT
A38: =A37+1 -> 32 | B38: Marsh & McLennan | C38: Financial Svcs. (Div.) | E38: ='[1]Stock Price (Non-Utility)'!AH34 -> 234.85867 | G38: 3.26 | I38: =G38/E38 -> 0.013880689 | L38: MMC
A39: =A38+1 -> 33 | B39: McDonald's Corp. | C39: Restaurant | E39: ='[1]Stock Price (Non-Utility)'!AI34 -> 307.69633 | G39: 6.4 | I39: =G39/E39 -> 0.020799728 | L39: MCD
A40: =A39+1 -> 34 | B40: McKesson Corp. | C40: Med Supp Non-Invasive | E40: ='[1]Stock Price (Non-Utility)'!AJ34 -> 664.49667 | G40: 3.02 | I40: =G40/E40 -> 0.0045447933 | L40: MCK
A41: =A40+1 -> 35 | B41: Merck & Co. | C41: Drug | E41: ='[1]Stock Price (Non-Utility)'!AK34 -> 89.092 | G41: 3.24 | I41: =G41/E41 -> 0.036366902 | L41: MRK
...

Sheet 13 (2)
A1: ='[1]Exhibit List'!C16 -> DCF MODEL - NON-UTILITY GROUP | J1: ='[1]Exhibit List'!B16 -> Exhibit 13
J2: Page 2 of 3
A3: ='[1]Exhibit List'!D16 -> GROWTH RATES
E4: (a) | G4: (b) | I4: (c)
E5: Earnings Growth
B6: Company | C6: Ticker | E6: V Line | G6: IBES | I6: Zacks
A7: =A6+1 -> 1 | B7: Abbott Labs. | C7: ABT | E7: 0.069 | G7: 0.103 | I7: 0.1042
A8: =A7+1 -> 2 | B8: AbbVie Inc. | C8: ABBV | E8: 0.176 | G8: 0.159 | I8: 0.1194
A9: =A8+1 -> 3 | B9: Air Products & Chem. | C9: APD | E9: 0.17 | G9: 0.062 | I9: 0.0618
A10: =A9+1 -> 4 | B10: Alphabet Inc. | C10: GOOG | E10: 0.115 | G10: 0.199 | I10: 0.1534
A11: =A10+1 -> 5 | B11: Amdocs Ltd. | C11: DOX | E11: 0.0645 | G11: 0.081 | I11: 0.0978
A12: =A11+1 -> 6 | B12: Amgen | C12: AMGN | E12: 0.2575 | G12: 0.058 | I12: 0.0581
A13: =A12+1 -> 7 | B13: Apple Inc. | C13: AAPL | E13: 0.115 | G13: 0.145 | I13: 0.1316
A14: =A13+1 -> 8 | B14: AptarGroup | C14: ATR | E14: 0.0775 | G14: 0.068 | I14: 0.0676
A15: =A14+1 -> 9 | B15: Becton, Dickinson | C15: BDX | E15: 0.185 | G15: 0.092 | I15: 0.0965
A16: =A15+1 -> 10 | B16: Bristol-Myers Squibb | C16: BMY | E16: 0.039 | G16: 0.363 | I16: 0.04
A17: =A16+1 -> 11 | B17: Brown-Forman 'B' | C17: BF/B | E17: 0.035 | G17: -0.023 | I17: 0.032
A18: =A17+1 -> 12 | B18: Church & Dwight | C18: CHD | E18: 0.048 | G18: 0.086 | I18: 0.0849
... A26: =A25+1 -> 20 | B26: Electronic Arts | C26: EA | E26: 0.0775 | G26: 0.06 | I26: 0.077
A27: =A26+1 -> 21 | B27: Gallagher (Arthur J.) | C27: AJG | E27: 0.115 | G27: 0.136 | I27: n/a
A28: =A27+1 -> 22 | B28: Gilead Sciences | C28: GILD | E28: 0.0685 | G28: 0.286 | I28: 0.1947
A29: =A28+1 -> 23 | B29: Hershey Co. | C29: HSY | E29: 0.124 | G29: -0.093 | I29: 0.0461
A30: =A29+1 -> 24 | B30: Home Depot | C30: HD | E30: 0.2335 | G30: 0.051 | I30: 0.0705
A31: =A30+1 -> 25 | B31: Hormel Foods | C31: HRL | E31: 0.0225 | G31: 0.073 | I31: 0.0614
A32: =A31+1 -> 26 | B32: IDEX Corp. | C32: IEX | E32: 0.1085 | G32: 0.12 | I32: 0.12
A33: =A32+1 -> 27 | B33: Int'l Business Mach. | C33: IBM | E33: 0.13 | G33: 0.035 | I33: 0.0423
A34: =A33+1 -> 28 | B34: Johnson & Johnson | C34: JNJ | E34: 0.13 | G34: n/a | I34: 0.0618
A35: =A34+1 -> 29 | B35: Kimberly-Clark | C35: KMB | E35: 0.0945 | G35: 0.04 | I35: 0.0423
A36: =A35+1 -> 30 | B36: Lilly (Eli) | C36: LLY | E36: 0.37 | G36: 0.418 | I36: 0.2622
A37: =A36+1 -> 31 | B37: Lockheed Martin | C37: LMT | E37: 0.5045 | G37: 0.063 | I37: 0.1059
A38: =A37+1 -> 32 | B38: Marsh & McLennan | C38: MMC | E38: 0.1175 | G38: 0.086 | I38: 0.0855
A39: =A38+1 -> 33 | B39: McDonald's Corp. | C39: MCD | E39: 0.186 | G39: 0.076 | I39: 0.0797
A40: =A39+1 -> 34 | B40: McKesson Corp. | C40: MCK | E40: 0.5 | G40: 0.141 | I40: 0.1411
A41: =A40+1 -> 35 | B41: Merck & Co. | C41: MRK | E41: 0.118 | G41: 0.563 | I41: 0.1231
A42: =A41+1 -> 36 | B42: Microsoft Corp. | C42: MSFT | E42: 0.2025 | G42: 0.127 | I42: 0.1442
A43: =A42+1 -> 37 | B43: Mondelez Int'l | C43: MDLZ | E43: 0.0445 | G43: 0.022 | I43: 0.0522
A44: =A43+1 -> 38 | B44: NewMarket Corp. | C44: NEU | E44: 0.463 | G44: n/a | I44: n/a
A45: =A44+1 -> 39 | B45: Northrop Grumman | C45: NOC | E45: 0.385 | G45: 0.057 | I45: 0.0419
A46: =A45+1 -> 40 | B46: PepsiCo, Inc. | C46: PEP | E46: 0.1075 | G46: 0.044 | I46: 0.0555
A47: =A46+1 -> 41 | B47: Procter & Gamble | C47: PG | E47: 0.08 | G47: 0.054 | I47: 0.0604
...

Sheet 13 (3)
A1: ='[1]Exhibit List'!C17 -> DCF MODEL - NON-UTILITY GROUP | I1: ='[1]Exhibit List'!B17 -> Exhibit 13
I2: Page 3 of 3
A3: ='[1]Exhibit List'!D17 -> DCF COST OF EQUITY ESTIMATES
D5: (a) | F5: (b) | H5: (c)
B6: Company | D6: V Line | F6: IBES | H6: Zacks
A7: =A6+1 -> 1 | B7: ='13 (1)'!B7 -> Abbott Labs. | D7: =IF('13 (2)'!E7="n/a","n/a",'13 (1)'!$I7+'13 (2)'!E7) -> 0.08720983 | F7: =IF('13 (2)'!G7="n/a","n/a",'13 (1)'!$I7+'13 (2)'!G7) -> 0.12120983 | H7: =IF('13 (2)'!I7="n/a","n/a",'13 (1)'!$I7+'13 (2)'!I7) -> 0.12240983 | L7: =IF(D7="n/a","n/a",IF(D7<$C$66,"LOW",IF(D7>$C$67,"HIGH",D7))) -> 0.08720983 | M7: =IF(F7="n/a","n/a",IF(F7<$C$66,"LOW",IF(F7>$C$67,"HIGH",F7))) -> 0.12120983 | N7: =IF(H7="n/a","n/a",IF(H7<$C$66,"LOW",IF(H7>$C$67,"HIGH",H7))) -> 0.12240983
A8: =A7+1 -> 2 | B8: ='13 (1)'!B8 -> AbbVie Inc. | D8: =IF('13 (2)'!E8="n/a","n/a",'13 (1)'!$I8+'13 (2)'!E8) -> 0.20840936 | F8: =IF('13 (2)'!G8="n/a","n/a",'13 (1)'!$I8+'13 (2)'!G8) -> 0.19140936 | H8: =IF('13 (2)'!I8="n/a","n/a",'13 (1)'!$I8+'13 (2)'!I8) -> 0.15180936 | L8: =IF(D8="n/a","n/a",IF(D8<$C$66,"LOW",IF(D8>$C$67,"HIGH",D8))) -> HIGH | M8: =IF(F8="n/a","n/a",IF(F8<$C$66,"LOW",IF(F8>$C$67,"HIGH",F8))) -> HIGH | N8: =IF(H8="n/a","n/a",IF(H8<$C$66,"LOW",IF(H8>$C$67,"HIGH",H8))) -> HIGH
A9: =A8+1 -> 3 | B9: ='13 (1)'!B9 -> Air Products & Chem. | D9: =IF('13 (2)'!E9="n/a","n/a",'13 (1)'!$I9+'13 (2)'!E9) -> 0.19449172 | F9: =IF('13 (2)'!G9="n/a","n/a",'13 (1)'!$I9+'13 (2)'!G9) -> 0.086491716 | H9: =IF('13 (2)'!I9="n/a","n/a",'13 (1)'!$I9+'13 (2)'!I9) -> 0.086291716 | L9: =IF(D9="n/a","n/a",IF(D9<$C$66,"LOW",IF(D9>$C$67,"HIGH",D9))) -> HIGH | M9: =IF(F9="n/a","n/a",IF(F9<$C$66,"LOW",IF(F9>$C$67,"HIGH",F9))) -> 0.086491716 | N9: =IF(H9="n/a","n/a",IF(H9<$C$66,"LOW",IF(H9>$C$67,"HIGH",H9))) -> 0.086291716
A10: =A9+1 -> 4 | B10: ='13 (1)'!B10 -> Alphabet Inc. | D10: =IF('13 (2)'!E10="n/a","n/a",'13 (1)'!$I10+'13 (2)'!E10) -> 0.12026855 | F10: =IF('13 (2)'!G10="n/a","n/a",'13 (1)'!$I10+'13 (2)'!G10) -> 0.20426855 | H10: =IF('13 (2)'!I10="n/a","n/a",'13 (1)'!$I10+'13 (2)'!I10) -> 0.15866855 | L10: =IF(D10="n/a","n/a",IF(D10<$C$66,"LOW",IF(D10>$C$67,"HIGH",D10))) -> 0.12026855 | M10: =IF(F10="n/a","n/a",IF(F10<$C$66,"LOW",IF(F10>$C$67,"HIGH",F10))) -> HIGH | N10: =IF(H10="n/a","n/a",IF(H10<$C$66,"LOW",IF(H10>$C$67,"HIGH",H10))) -> HIGH
A11: =A10+1 -> 5 | B11: ='13 (1)'!B11 -> Amdocs Ltd. | D11: =IF('13 (2)'!E11="n/a","n/a",'13 (1)'!$I11+'13 (2)'!E11) -> 0.086345572 | F11: =IF('13 (2)'!G11="n/a","n/a",'13 (1)'!$I11+'13 (2)'!G11) -> 0.10284557 | H11: =IF('13 (2)'!I11="n/a","n/a",'13 (1)'!$I11+'13 (2)'!I11) -> 0.11964557 | L11: =IF(D11="n/a","n/a",IF(D11<$C$66,"LOW",IF(D11>$C$67,"HIGH",D11))) -> 0.086345572 | M11: =IF(F11="n/a","n/a",IF(F11<$C$66,"LOW",IF(F11>$C$67,"HIGH",F11))) -> 0.10284557 | N11: =IF(H11="n/a","n/a",IF(H11<$C$66,"LOW",IF(H11>$C$67,"HIGH",H11))) -> 0.11964557
A12: =A11+1 -> 6 | B12: ='13 (1)'!B12 -> Amgen | D12: =IF('13 (2)'!E12="n/a","n/a",'13 (1)'!$I12+'13 (2)'!E12) -> 0.28844385 | F12: =IF('13 (2)'!G12="n/a","n/a",'13 (1)'!$I12+'13 (2)'!G12) -> 0.088943853 | H12: =IF('13 (2)'!I12="n/a","n/a",'13 (1)'!$I12+'13 (2)'!I12) -> 0.089043853 | L12: =IF(D12="n/a","n/a",IF(D12<$C$66,"LOW",IF(D12>$C$67,"HIGH",D12))) -> HIGH | M12: =IF(F12="n/a","n/a",IF(F12<$C$66,"LOW",IF(F12>$C$67,"HIGH",F12))) -> 0.088943853 | N12: =IF(H12="n/a","n/a",IF(H12<$C$66,"LOW",IF(H12>$C$67,"HIGH",H12))) -> 0.089043853
A13: =A12+1 -> 7 | B13: ='13 (1)'!B13 -> Apple Inc. | D13: =IF('13 (2)'!E13="n/a","n/a",'13 (1)'!$I13+'13 (2)'!E13) -> 0.11967202 | F13: =IF('13 (2)'!G13="n/a","n/a",'13 (1)'!$I13+'13 (2)'!G13) -> 0.14967202 | H13: =IF('13 (2)'!I13="n/a","n/a",'13 (1)'!$I13+'13 (2)'!I13) -> 0.13627202 | L13: =IF(D13="n/a","n/a",IF(D13<$C$66,"LOW",IF(D13>$C$67,"HIGH",D13))) -> 0.11967202 | M13: =IF(F13="n/a","n/a",IF(F13<$C$66,"LOW",IF(F13>$C$67,"HIGH",F13))) -> 0.14967202 | N13: =IF(H13="n/a","n/a",IF(H13<$C$66,"LOW",IF(H13>$C$67,"HIGH",H13))) -> 0.13627202
A14: =A13+1 -> 8 | B14: ='13 (1)'!B14 -> AptarGroup | D14: =IF('13 (2)'!E14="n/a","n/a",'13 (1)'!$I14+'13 (2)'!E14) -> 0.090156842 | F14: =IF('13 (2)'!G14="n/a","n/a",'13 (1)'!$I14+'13 (2)'!G14) -> 0.080656842 | H14: =IF('13 (2)'!I14="n/a","n/a",'13 (1)'!$I14+'13 (2)'!I14) -> 0.080256842 | L14: =IF(D14="n/a","n/a",IF(D14<$C$66,"LOW",IF(D14>$C$67,"HIGH",D14))) -> 0.090156842 | M14: =IF(F14="n/a","n/a",IF(F14<$C$66,"LOW",IF(F14>$C$67,"HIGH",F14))) -> 0.080656842 | N14: =IF(H14="n/a","n/a",IF(H14<$C$66,"LOW",IF(H14>$C$67,"HIGH",H14))) -> 0.080256842
A15: =A14+1 -> 9 | B15: ='13 (1)'!B15 -> Becton, Dickinson | D15: =IF('13 (2)'!E15="n/a","n/a",'13 (1)'!$I15+'13 (2)'!E15) -> 0.20384057 | F15: =IF('13 (2)'!G15="n/a","n/a",'13 (1)'!$I15+'13 (2)'!G15) -> 0.11084057 | H15: =IF('13 (2)'!I15="n/a","n/a",'13 (1)'!$I15+'13 (2)'!I15) -> 0.11534057 | L15: =IF(D15="n/a","n/a",IF(D15<$C$66,"LOW",IF(D15>$C$67,"HIGH",D15))) -> HIGH | M15: =IF(F15="n/a","n/a",IF(F15<$C$66,"LOW",IF(F15>$C$67,"HIGH",F15))) -> 0.11084057 | N15: =IF(H15="n/a","n/a",IF(H15<$C$66,"LOW",IF(H15>$C$67,"HIGH",H15))) -> 0.11534057
A16: =A15+1 -> 10 | B16: ='13 (1)'!B16 -> Bristol-Myers Squibb | D16: =IF('13 (2)'!E16="n/a","n/a",'13 (1)'!$I16+'13 (2)'!E16) -> 0.08146939 | F16: =IF('13 (2)'!G16="n/a","n/a",'13 (1)'!$I16+'13 (2)'!G16) -> 0.40546939 | H16: =IF('13 (2)'!I16="n/a","n/a",'13 (1)'!$I16+'13 (2)'!I16) -> 0.08246939 | L16: =IF(D16="n/a","n/a",IF(D16<$C$66,"LOW",IF(D16>$C$67,"HIGH",D16))) -> 0.08146939 | M16: =IF(F16="n/a","n/a",IF(F16<$C$66,"LOW",IF(F16>$C$67,"HIGH",F16))) -> HIGH | N16: =IF(H16="n/a","n/a",IF(H16<$C$66,"LOW",IF(H16>$C$67,"HIGH",H16))) -> 0.08246939
A17: =A16+1 -> 11 | B17: ='13 (1)'!B17 -> Brown-Forman 'B' | D17: =IF('13 (2)'!E17="n/a","n/a",'13 (1)'!$I17+'13 (2)'!E17) -> 0.064045563 | F17: =IF('13 (2)'!G17="n/a","n/a",'13 (1)'!$I17+'13 (2)'!G17) -> 0.0060455628 | H17: =IF('13 (2)'!I17="n/a","n/a",'13 (1)'!$I17+'13 (2)'!I17) -> 0.061045563 | L17: =IF(D17="n/a","n/a",IF(D17<$C$66,"LOW",IF(D17>$C$67,"HIGH",D17))) -> LOW | M17: =IF(F17="n/a","n/a",IF(F17<$C$66,"LOW",IF(F17>$C$67,"HIGH",F17))) -> LOW | N17: =IF(H17="n/a","n/a",IF(H17<$C$66,"LOW",IF(H17>$C$67,"HIGH",H17))) -> LOW
A18: =A17+1 -> 12 | B18: ='13 (1)'!B18 -> Church & Dwight | D18: =IF('13 (2)'!E18="n/a","n/a",'13 (1)'!$I18+'13 (2)'!E18) -> 0.058562891 | F18: =IF('13 (2)'!G18="n/a","n/a",'13 (1)'!$I18+'13 (2)'!G18) -> 0.096562891 | H18: =IF('13 (2)'!I18="n/a","n/a",'13 (1)'!$I18+'13 (2)'!I18) -> 0.095462891 | L18: =IF(D18="n/a","n/a",IF(D18<$C$66,"LOW",IF(D18>$C$67,"HIGH",D18))) -> LOW | M18: =IF(F18="n/a","n/a",IF(F18<$C$66,"LOW",IF(F18>$C$67,"HIGH",F18))) -> 0.096562891 | N18: =IF(H18="n/a","n/a",IF(H18<$C$66,"LOW",IF(H18>$C$67,"HIGH",H18))) -> 0.095462891
... A56: =A55+1 -> 50 | B56: ='13 (1)'!B56 -> Waste Management | D56: =IF('13 (2)'!E56="n/a","n/a",'13 (1)'!$I56+'13 (2)'!E56) -> 0.11101051 | F56: =IF('13 (2)'!G56="n/a","n/a",'13 (1)'!$I56+'13 (2)'!G56) -> 0.12451051 | H56: =IF('13 (2)'!I56="n/a","n/a",'13 (1)'!$I56+'13 (2)'!I56) -> 0.12411051 | L56: =IF(D56="n/a","n/a",IF(D56<$C$66,"LOW",IF(D56>$C$67,"HIGH",D56))) -> 0.11101051 | M56: =IF(F56="n/a","n/a",IF(F56<$C$66,"LOW",IF(F56>$C$67,"HIGH",F56))) -> 0.12451051 | N56: =IF(H56="n/a","n/a",IF(H56<$C$66,"LOW",IF(H56>$C$67,"HIGH",H56))) -> 0.12411051
B58: Average (b) | D58: =AVERAGE(L7:L56) -> 0.1079996 | F58: =AVERAGE(M7:M56) -> 0.1014159 | H58: =AVERAGE(N7:N56) -> 0.099312004 | J58: =AVERAGE(D58:H58) -> 0.10290917 | K58: Min | L58: =MIN(L7:L56) -> 0.077311787 | M58: =MIN(M7:M56) -> 0.073673547 | N58: =MIN(N7:N56) -> 0.076173547
K59: Max | L59: =MAX(L7:L56) -> 0.14393681 | M59: =MAX(M7:M56) -> 0.14967202 | N59: =MAX(N7:N56) -> 0.14564479
A60: (a) | B60: Sum of dividend yield (p. 1) and respective growth rate (p. 2). | K60: Mid | L60: =AVERAGE(L58,L59) -> 0.1106243 | M60: =AVERAGE(M58,M59) -> 0.11167279 | N60: =AVERAGE(N58,N59) -> 0.11090917
A61: (b) | B61: Excludes highlighted figures. | K61: Median | L61: =MEDIAN(L7:L56) -> 0.11101051 | M61: =MEDIAN(M7:M56) -> 0.096799728 | N61: =MEDIAN(N7:N56) -> 0.094851877
B66: Criteria Min | C66: ='[1]7 (3)'!D35 -> 0.0736
B67: Criteria Max | C67: ='[1]7 (3)'!D36 -> 0.15

Sheet Sheet1
