Workbook
Name IQ_CH: 110000
Name IQ_CQ: 5000
Name IQ_CY: 10000
Name IQ_DAILY: 500000
Name IQ_FH: 100000
Name IQ_FQ: 500
Name IQ_FY: 1000
Name IQ_LTM: 2000
Name IQ_MONTH: 15000
Name IQ_NTM: 6000
Name IQ_WEEK: 50000
Name IQ_YTD: 3000

Sheet Exhibit No. 1
B1: DEPRECIATION AND INTEREST TRACKING MECHANISM UNIT COST
F3: On-Site Gen | H3: On-Site Gen | I3: Sec Serv | J3: Prim/Trans Serv | M3: Sec Serv | N3: Non-Metered | P3: Traffic Control | V3: Lamb
C4: Factor | E4: Residential | F4: Residential | G4: Small General | H4: Small General | I4: Large General | J4: Large General | K4: Area Lighting | L4: Large Power | M4: Irrigation | N4: General | O4: Street Light | P4: Lighting | Q4: Micron | R4: Simplot | S4: DOE/INL | T4: Simplot | U4: Brisbie | V4: Weston
B5: Description | C5: Name | D5: Total | E5: Sch 1 | F5: Sch 6 | G5: Sch 7 | H5: Sch 8 | I5: Sch 9-S | J5: Sch 9-P/T | K5: Sch 15 | L5: Sch 19-S/P/T | M5: Sch 24-S | N5: Sch 40 | O5: Sch 41 | P5: Sch 42 | Q5: Sch 26 | R5: Sch 29 | S5: Sch 30 | T5: Sch 32 | U5: Sch 33 | V5: Sch 34
B6: Interest | C6: =+'Workpaper No. 2'!C9 -> INT | D6: =+' Workpaper No. 1'!C5 -> 1.2972214e+08 | E6: =+INDEX('Workpaper No. 2'!$D$6:$V$13,MATCH($C6,'Workpaper No. 2'!$C$6:$C$13,0),MATCH(E$5,'Workpaper No. 2'!$D$5:$V$5,0))*$D6 -> 61110346 | F6: =+INDEX('Workpaper No. 2'!$D$6:$V$13,MATCH($C6,'Workpaper No. 2'!$C$6:$C$13,0),MATCH(F$5,'Workpaper No. 2'!$D$5:$V$5,0))*$D$6 -> 2976865.7 | G6: =+INDEX('Workpaper No. 2'!$D$6:$V$13,MATCH($C6,'Workpaper No. 2'!$C$6:$C$13,0),MATCH(G$5,'Workpaper No. 2'!$D$5:$V$5,0))*$D$6 -> 1688998.4 | H6: =+INDEX('Workpaper No. 2'!$D$6:$V$13,MATCH($C6,'Workpaper No. 2'!$C$6:$C$13,0),MATCH(H$5,'Workpaper No. 2'!$D$5:$V$5,0))*$D$6 -> 11975.063 | I6: =+INDEX('Workpaper No. 2'!$D$6:$V$13,MATCH($C6,'Workpaper No. 2'!$C$6:$C$13,0),MATCH(I$5,'Workpaper No. 2'!$D$5:$V$5,0))*$D$6 -> 23703682 | J6: =+INDEX('Workpaper No. 2'!$D$6:$V$13,MATCH($C6,'Workpaper No. 2'!$C$6:$C$13,0),MATCH(J$5,'Workpaper No. 2'!$D$5:$V$5,0))*$D$6 -> 4294912.3 | K6: =+INDEX('Workpaper No. 2'!$D$6:$V$13,MATCH($C6,'Workpaper No. 2'!$C$6:$C$13,0),MATCH(K$5,'Workpaper No. 2'!$D$5:$V$5,0))*$D$6 -> 137887.6 | L6: =+INDEX('Workpaper No. 2'!$D$6:$V$13,MATCH($C6,'Workpaper No. 2'!$C$6:$C$13,0),MATCH(L$5,'Workpaper No. 2'!$D$5:$V$5,0))*$D$6 -> 12107775 | M6: =+INDEX('Workpaper No. 2'!$D$6:$V$13,MATCH($C6,'Workpaper No. 2'!$C$6:$C$13,0),MATCH(M$5,'Workpaper No. 2'!$D$5:$V$5,0))*$D$6 -> 17398006 | ... V6: =+INDEX('Workpaper No. 2'!$D$6:$V$13,MATCH($C6,'Workpaper No. 2'!$C$6:$C$13,0),MATCH(V$5,'Workpaper No. 2'!$D$5:$V$5,0))*$D$6 -> 627900.63
B7: Depreciation Expense | C7: =+'Workpaper No. 2'!C11 -> DEPR | D7: =+' Workpaper No. 1'!C62 -> 1.8523672e+08 | E7: =+INDEX('Workpaper No. 2'!$D$6:$V$13,MATCH($C7,'Workpaper No. 2'!$C$6:$C$13,0),MATCH(E$5,'Workpaper No. 2'!$D$5:$V$5,0))*$D7 -> 87604622 | F7: =+INDEX('Workpaper No. 2'!$D$6:$V$13,MATCH($C7,'Workpaper No. 2'!$C$6:$C$13,0),MATCH(F$5,'Workpaper No. 2'!$D$5:$V$5,0))*$D7 -> 4100741.3 | G7: =+INDEX('Workpaper No. 2'!$D$6:$V$13,MATCH($C7,'Workpaper No. 2'!$C$6:$C$13,0),MATCH(G$5,'Workpaper No. 2'!$D$5:$V$5,0))*$D7 -> 2492257.1 | H7: =+INDEX('Workpaper No. 2'!$D$6:$V$13,MATCH($C7,'Workpaper No. 2'!$C$6:$C$13,0),MATCH(H$5,'Workpaper No. 2'!$D$5:$V$5,0))*$D7 -> 15393.204 | I7: =+INDEX('Workpaper No. 2'!$D$6:$V$13,MATCH($C7,'Workpaper No. 2'!$C$6:$C$13,0),MATCH(I$5,'Workpaper No. 2'!$D$5:$V$5,0))*$D7 -> 34103610 | J7: =+INDEX('Workpaper No. 2'!$D$6:$V$13,MATCH($C7,'Workpaper No. 2'!$C$6:$C$13,0),MATCH(J$5,'Workpaper No. 2'!$D$5:$V$5,0))*$D7 -> 6177528.1 | K7: =+INDEX('Workpaper No. 2'!$D$6:$V$13,MATCH($C7,'Workpaper No. 2'!$C$6:$C$13,0),MATCH(K$5,'Workpaper No. 2'!$D$5:$V$5,0))*$D7 -> 61485.548 | L7: =+INDEX('Workpaper No. 2'!$D$6:$V$13,MATCH($C7,'Workpaper No. 2'!$C$6:$C$13,0),MATCH(L$5,'Workpaper No. 2'!$D$5:$V$5,0))*$D7 -> 17734656 | ... V7: =+INDEX('Workpaper No. 2'!$D$6:$V$13,MATCH($C7,'Workpaper No. 2'!$C$6:$C$13,0),MATCH(V$5,'Workpaper No. 2'!$D$5:$V$5,0))*$D7 -> 794809.88
B8: Amortization of Limited Term Plant | C8: =+'Workpaper No. 2'!C13 -> ALTP | D8: =+' Workpaper No. 1'!C68 -> 9601128.1 | E8: =+INDEX('Workpaper No. 2'!$D$6:$V$13,MATCH($C8,'Workpaper No. 2'!$C$6:$C$13,0),MATCH(E$5,'Workpaper No. 2'!$D$5:$V$5,0))*$D8 -> 4303438.7 | F8: =+INDEX('Workpaper No. 2'!$D$6:$V$13,MATCH($C8,'Workpaper No. 2'!$C$6:$C$13,0),MATCH(F$5,'Workpaper No. 2'!$D$5:$V$5,0))*$D8 -> 177371.4 | G8: =+INDEX('Workpaper No. 2'!$D$6:$V$13,MATCH($C8,'Workpaper No. 2'!$C$6:$C$13,0),MATCH(G$5,'Workpaper No. 2'!$D$5:$V$5,0))*$D8 -> 87539.961 | H8: =+INDEX('Workpaper No. 2'!$D$6:$V$13,MATCH($C8,'Workpaper No. 2'!$C$6:$C$13,0),MATCH(H$5,'Workpaper No. 2'!$D$5:$V$5,0))*$D8 -> 428.63319 | I8: =+INDEX('Workpaper No. 2'!$D$6:$V$13,MATCH($C8,'Workpaper No. 2'!$C$6:$C$13,0),MATCH(I$5,'Workpaper No. 2'!$D$5:$V$5,0))*$D8 -> 1866131 | J8: =+INDEX('Workpaper No. 2'!$D$6:$V$13,MATCH($C8,'Workpaper No. 2'!$C$6:$C$13,0),MATCH(J$5,'Workpaper No. 2'!$D$5:$V$5,0))*$D8 -> 338640.25 | K8: =+INDEX('Workpaper No. 2'!$D$6:$V$13,MATCH($C8,'Workpaper No. 2'!$C$6:$C$13,0),MATCH(K$5,'Workpaper No. 2'!$D$5:$V$5,0))*$D8 -> 1286.6351 | L8: =+INDEX('Workpaper No. 2'!$D$6:$V$13,MATCH($C8,'Workpaper No. 2'!$C$6:$C$13,0),MATCH(L$5,'Workpaper No. 2'!$D$5:$V$5,0))*$D8 -> 1091276.8 | ... V8: =+INDEX('Workpaper No. 2'!$D$6:$V$13,MATCH($C8,'Workpaper No. 2'!$C$6:$C$13,0),MATCH(V$5,'Workpaper No. 2'!$D$5:$V$5,0))*$D8 -> 55181.219
B9: Mechanism Total | D9: =+SUM(D6:D8) -> 3.2455999e+08 | E9: =+SUM(E6:E8) -> 1.5301841e+08 | F9: =+SUM(F6:F8) -> 7254978.4 | G9: =+SUM(G6:G8) -> 4268795.5 | H9: =+SUM(H6:H8) -> 27796.901 | I9: =+SUM(I6:I8) -> 59673423 | J9: =+SUM(J6:J8) -> 10811081 | K9: =+SUM(K6:K8) -> 200659.78 | ... V9: =+SUM(V6:V8) -> 1477891.7
B11: Test Year Energy Sales | D11: =+SUM(E11:V11) -> 1.545141e+10 | E11: 5.6156044e+09 | F11: 2.5035117e+08 | G11: 1.3984614e+08 | H11: 699022.7 | I11: 3.4051419e+09 | J11: 6.5810137e+08 | K11: 1937297.9 | L11: 2.1960918e+09 | M11: 1.7701641e+09 | N11: 14484473 | O11: 20419614 | P11: 3056155 | Q11: 6.3570873e+08 | R11: 2.1175e+08 | S11: 2.41e+08 | T11: 155000000 | U11: 0 | V11: 1.3205377e+08
B12: Unit Cost | D12: =+D9/D11 -> 0.021005202 | E12: =+E9/E11 -> 0.027248787 | F12: =+F9/F11 -> 0.028979207 | G12: =+G9/G11 -> 0.030524944 | H12: =+H9/H11 -> 0.039765376 | I12: =+I9/I11 -> 0.017524504 | J12: =+J9/J11 -> 0.016427683 | K12: =+K9/K11 -> 0.10357715 | ... T12: =+T9/T11 -> 0.010506485 | U12: 0 | V12: =+V9/V11 -> 0.011191591

Sheet  Workpaper No. 1
A1: 2025 TY - Idaho Jurisdictional kWh Sales | B1: DEPRECIATION AND INTEREST TRACKING MECHANISM UNIT COST | C1: 1.545141e+10
C3: 2025 Test Year
C4: Idaho
A5: Interest Expense | C5: 1.2972214e+08
A7: DEPRECIATION & AMORTIZATION EXPENSE
C8: 2025 Test Year
A9: DEPRECIATION EXPENSE | C9: Idaho
A10: 310-316 / STEAM PRODUCTION | C10: 11218839
A11: 330-336 / HYDRAULIC PRODUCTION | C11: 27525277
A12: 340-346 / OTHER PRODUCTION-BASELOAD | C12: 11796512
A13: 340-346 / OTHER PRODUCTION-PEAKERS | C13: 7686445.7
B14: TOTAL PRODUCTION PLANT | C14: =SUM(C10:C13) -> 58227075
A16: TRANSMISSION PLANT
A17: 350 / LAND & LAND RIGHTS | C17: 484268.18
A18: 352 / STRUCTURES & IMPROVEMENTS | C18: 2396988.1
A19: 353 / STATION EQUIPMENT | C19: 11359186
A20: 354 / TOWERS & FIXTURES | C20: 3134131.7
A21: 355 / POLES & FIXTURES | C21: 7060674.5
A22: 356 / OVERHEAD CONDUCTORS & DEVICES | C22: 4667593.4
A23: 359 / ROADS & TRAILS | C23: 2735.7203
B24: TOTAL TRANSMISSION PLANT | C24: =SUM(C17:C23) -> 29105578
A26: DISTRIBUTION PLANT
A27: 360 / LAND & LAND RIGHTS | C27: 27999.114
A28: 361 / STRUCTURES & IMPROVEMENTS | C28: 1548512.9
A29: 362 / STATION EQUIPMENT | C29: 7113363.9
A30: 363 / STORAGE BATTERY EQUIPMENT | C30: 0
A31: 364 / POLES, TOWERS & FIXTURES | C31: 7067969.1
A32: 365 / OVERHEAD CONDUCTORS & DEVICES | C32: 3845402.4
A33: 366 / UNDERGROUND CONDUIT | C33: 1506734
A34: 367 / UNDERGROUND CONDUCTORS & DEVICES | C34: 8936096.6
A35: 368 / LINE TRANSFORMERS | C35: 15876196
A36: 369 / SERVICES | C36: 1212270.9
A37: 370 / METERS | C37: 6406443
A38: 371 / INSTALLATIONS ON CUSTOMER PREMISES | C38: 217052.22
A39: 373 / STREET LIGHTING SYSTEMS | C39: 217483.87
B40: TOTAL DISTRIBUTION PLANT | C40: =SUM(C27:C39) -> 53975524
A42: ENERGY STORAGE PLANT
A43: 387 / ENERGY STORAGE PLANT | C43: 24699937
B44: TOTAL ENERGY STORAGE PLANT EXPENSE | C44: =SUM(C43) -> 24699937
A46: GENERAL PLANT
...

Sheet Workpaper No. 2
B1: DEPRECIATION AND INTEREST TRACKING MECHANISM UNIT COST
F3: On-Site Gen | H3: On-Site Gen | I3: Sec Serv | J3: Prim/Trans Serv | M3: Sec Serv | N3: Non-Metered | P3: Traffic Control | V3: Lamb
C4: Factor | D4: Factor | E4: Residential | F4: Residential | G4: Small General | H4: Small General | I4: Large General | J4: Large General | K4: Area Lighting | L4: Large Power | M4: Irrigation | N4: General | O4: Street Light | P4: Lighting | Q4: Micron | R4: Simplot | S4: DOE/INL | T4: Simplot | U4: Brisbie | V4: Weston
B5: Expense Type | C5: Name | D5: Total | E5: Sch 1 | F5: Sch 6 | G5: Sch 7 | H5: Sch 8 | I5: Sch 9-S | J5: Sch 9-P/T | K5: Sch 15 | L5: Sch 19-S/P/T | M5: Sch 24-S | N5: Sch 40 | O5: Sch 41 | P5: Sch 42 | Q5: Sch 26 | R5: Sch 29 | S5: Sch 30 | T5: Sch 32 | U5: Sch 33 | V5: Sch 34
B6: Total Electric Plant in Service | D6: =+SUM(E6:V6) -> 7.4374508e+09 | E6: 3.520591e+09 | F6: 1.6953153e+08 | G6: 98222103 | H6: 672788.66 | I6: 1.3583808e+09 | J6: 2.4590262e+08 | K6: 6861834.6 | L6: 6.971412e+08 | M6: 9.8648585e+08 | N6: 6133426.6 | O6: 17735429 | P6: 1932364.6 | Q6: 1.5983875e+08 | R6: 48309672 | S6: 48501049 | T6: 36688460 | U6: 0 | V6: 34521967
B7: Accumulated Reserve for Depreciation | D7: =+SUM(E7:V7) -> 2.1721526e+09 | E7: 1.0401802e+09 | F7: 48703384 | G7: 29667263 | H7: 186732.23 | I7: 3.962709e+08 | J7: 71576214 | K7: 1265108.1 | L7: 2.0569815e+08 | M7: 2.8031734e+08 | N7: 1786379 | O7: 3866628.9 | P7: 562660.98 | Q7: 43726544 | R7: 14145441 | S7: 14797007 | T7: 10366581 | U7: 0 | V7: 9036077.2
B8: Net Electric Plant in Service | D8: =+SUM(E8:V8) -> 5.2652983e+09 | E8: =+E6-E7 -> 2.4804108e+09 | F8: =+F6-F7 -> 1.2082815e+08 | G8: =+G6-G7 -> 68554840 | H8: =+H6-H7 -> 486056.43 | I8: =+I6-I7 -> 9.6210989e+08 | J8: =+J6-J7 -> 1.743264e+08 | K8: =+K6-K7 -> 5596726.5 | L8: =+L6-L7 -> 4.9144306e+08 | ... V8: =+V6-V7 -> 25485889
B9: Interest | C9: INT | D9: =+SUM(E9:V9) -> 1 | E9: =+E8/$D$8 -> 0.47108648 | F9: =+F8/$D$8 -> 0.022948016 | G9: =+G8/$D$8 -> 0.013020125 | H9: =+H8/$D$8 -> 9.2313181e-05 | I9: =+I8/$D$8 -> 0.18272657 | J9: =+J8/$D$8 -> 0.033108553 | K9: =+K8/$D$8 -> 0.0010629458 | L9: =+L8/$D$8 -> 0.093336224 | ... V9: =+V8/$D$8 -> 0.0048403506
B10: Depreciation | D10: =+SUM(E10:V10) -> 1.8523672e+08 | E10: 87604622 | F10: 4100741.3 | G10: 2492257.1 | H10: 15393.204 | I10: 34103610 | J10: 6177528.1 | K10: 61485.548 | L10: 17734656 | M10: 24163424 | N10: 148902.49 | O10: 493558.62 | P10: 48925.903 | Q10: 3865277.8 | R10: 1226786.2 | S10: 1291036 | T10: 913705.26 | U10: 0 | V10: 794809.88
C11: DEPR | D11: =+SUM(E11:V11) -> 1 | E11: =+E10/$D$10 -> 0.47293335 | F11: =+F10/$D$10 -> 0.022137842 | G11: =+G10/$D$10 -> 0.013454444 | H11: =+H10/$D$10 -> 8.3100176e-05 | I11: =+I10/$D$10 -> 0.18410826 | J11: =+J10/$D$10 -> 0.033349371 | K11: =+K10/$D$10 -> 0.00033192959 | L11: =+L10/$D$10 -> 0.0957405 | ... V11: =+V10/$D$10 -> 0.0042907793
B12: Amortization of Limited Term Plant | D12: =+SUM(E12:V12) -> 9601128.1 | E12: 4303438.7 | F12: 177371.4 | G12: 87539.961 | H12: 428.63319 | I12: 1866131 | J12: 338640.25 | K12: 1286.6351 | L12: 1091276.8 | M12: 1138781.1 | N12: 7238.9381 | O12: 12582.766 | P12: 1679.3033 | Q12: 279610.61 | R12: 77157.646 | S12: 96480.275 | T12: 66302.919 | U12: 0 | V12: 55181.219
C13: ALTP | D13: =+SUM(E13:V13) -> 1 | E13: =+E12/$D$12 -> 0.44822219 | F13: =+F12/$D$12 -> 0.018474016 | G13: =+G12/$D$12 -> 0.0091176745 | H13: =+H12/$D$12 -> 4.4644044e-05 | I13: =+I12/$D$12 -> 0.19436581 | J13: =+J12/$D$12 -> 0.035270881 | K13: =+K12/$D$12 -> 0.00013400874 | L13: =+L12/$D$12 -> 0.11366131 | ... V13: =+V12/$D$12 -> 0.0057473682
